BEGIN:VCALENDAR
VERSION:2.0
PRODID:-//WorkBC Centre - ECPv6.11.2//NONSGML v1.0//EN
CALSCALE:GREGORIAN
METHOD:PUBLISH
X-WR-CALNAME:WorkBC Centre
X-ORIGINAL-URL:https://www.workbccentre-newwestminster.ca
X-WR-CALDESC:Events for WorkBC Centre
REFRESH-INTERVAL;VALUE=DURATION:PT1H
X-Robots-Tag:noindex
X-PUBLISHED-TTL:PT1H
BEGIN:VTIMEZONE
TZID:America/Vancouver
BEGIN:DAYLIGHT
TZOFFSETFROM:-0800
TZOFFSETTO:-0700
TZNAME:PDT
DTSTART:20210314T100000
END:DAYLIGHT
BEGIN:STANDARD
TZOFFSETFROM:-0700
TZOFFSETTO:-0800
TZNAME:PST
DTSTART:20211107T090000
END:STANDARD
END:VTIMEZONE
BEGIN:VEVENT
DTSTART;TZID=America/Vancouver:20211022T130000
DTEND;TZID=America/Vancouver:20211022T140000
DTSTAMP:20260421T225055
CREATED:20210927T215141Z
LAST-MODIFIED:20211013T190213Z
UID:1977-1634907600-1634911200@www.workbccentre-newwestminster.ca
SUMMARY:Tippett Richardson & the COMPASS Group Employer Session / Hiring Fair
DESCRIPTION:Join us as we host Tippet- Richardson & the COMPASS Group. \nCOMPASS GROUP hiring for a variety of positions including Servers\, Cooks\, Baristas\, Payroll Scheduler & many more. Visit https://www.compass-canada.com/working-at-compass/ for the list of available jobs. \nTippet Richardson\, full service movers\, hiring for Drivers\, Crew/Swampers. Visit https://tippetrichardson.com/work-with-us/ for job descriptions.\nLearn about their recruitment needs & hiring process. There will be a chance to ask questions after the presentation. \nRegistration: https://workbcnewwest15.eventbrite.ca
URL:/calendars/tippett-richardson-employer-session-hiring-fair/
CATEGORIES:Event
END:VEVENT
END:VCALENDAR