BEGIN:VCALENDAR
VERSION:2.0
PRODID:-//WorkBC Centre - ECPv6.11.2//NONSGML v1.0//EN
CALSCALE:GREGORIAN
METHOD:PUBLISH
X-WR-CALNAME:WorkBC Centre
X-ORIGINAL-URL:https://www.workbccentre-newwestminster.ca
X-WR-CALDESC:Events for WorkBC Centre
REFRESH-INTERVAL;VALUE=DURATION:PT1H
X-Robots-Tag:noindex
X-PUBLISHED-TTL:PT1H
BEGIN:VTIMEZONE
TZID:America/Vancouver
BEGIN:DAYLIGHT
TZOFFSETFROM:-0800
TZOFFSETTO:-0700
TZNAME:PDT
DTSTART:20220313T100000
END:DAYLIGHT
BEGIN:STANDARD
TZOFFSETFROM:-0700
TZOFFSETTO:-0800
TZNAME:PST
DTSTART:20221106T090000
END:STANDARD
END:VTIMEZONE
BEGIN:VEVENT
DTSTART;TZID=America/Vancouver:20220608T100000
DTEND;TZID=America/Vancouver:20220608T110000
DTSTAMP:20260420T223859
CREATED:20220530T164006Z
LAST-MODIFIED:20220530T164006Z
UID:2302-1654682400-1654686000@www.workbccentre-newwestminster.ca
SUMMARY:Tools for Job Search & WorkBC Services
DESCRIPTION:These Workshops will be held at the Welcome Center in New Westminster at 820th 6th Street\, New Westminster. Registration through the Welcome Centre – welcome@sd40.bc.ca or call 604-517-6266. \nLimits in place. All welcome.
URL:/calendars/tools-for-job-search-workbc-services/
CATEGORIES:Event
END:VEVENT
BEGIN:VEVENT
DTSTART;TZID=America/Vancouver:20220608T100000
DTEND;TZID=America/Vancouver:20220608T123000
DTSTAMP:20260420T223859
CREATED:20220530T162055Z
LAST-MODIFIED:20220530T162055Z
UID:2282-1654682400-1654691400@www.workbccentre-newwestminster.ca
SUMMARY:Career Ex. 1
DESCRIPTION:
URL:/calendars/career-ex-1-15/
CATEGORIES:Workshop
END:VEVENT
END:VCALENDAR