BEGIN:VCALENDAR
VERSION:2.0
PRODID:-//WorkBC Centre - ECPv6.11.2//NONSGML v1.0//EN
CALSCALE:GREGORIAN
METHOD:PUBLISH
X-WR-CALNAME:WorkBC Centre
X-ORIGINAL-URL:https://www.workbccentre-newwestminster.ca
X-WR-CALDESC:Events for WorkBC Centre
REFRESH-INTERVAL;VALUE=DURATION:PT1H
X-Robots-Tag:noindex
X-PUBLISHED-TTL:PT1H
BEGIN:VTIMEZONE
TZID:America/Vancouver
BEGIN:DAYLIGHT
TZOFFSETFROM:-0800
TZOFFSETTO:-0700
TZNAME:PDT
DTSTART:20200308T100000
END:DAYLIGHT
BEGIN:STANDARD
TZOFFSETFROM:-0700
TZOFFSETTO:-0800
TZNAME:PST
DTSTART:20201101T090000
END:STANDARD
END:VTIMEZONE
BEGIN:VEVENT
DTSTART;TZID=America/Vancouver:20200401T083000
DTEND;TZID=America/Vancouver:20200401T163000
DTSTAMP:20260419T205336
CREATED:20200401T164112Z
LAST-MODIFIED:20200401T165258Z
UID:1335-1585729800-1585758600@www.workbccentre-newwestminster.ca
SUMMARY:All in-person workshops are currently CANCELLED to comply with the Public Health Officer's orders. Please connect with your Job Search Specialist to schedule a one-on-one.
DESCRIPTION:
URL:/calendars/all-in-person-workshops-for-the-month-of-april-have-been-cancelled-to-comply-with-the-public-health-officers-orders/
CATEGORIES:Workshop
END:VEVENT
END:VCALENDAR