BEGIN:VCALENDAR
VERSION:2.0
PRODID:-//WorkBC Centre - ECPv6.11.2//NONSGML v1.0//EN
CALSCALE:GREGORIAN
METHOD:PUBLISH
X-WR-CALNAME:WorkBC Centre
X-ORIGINAL-URL:https://www.workbccentre-newwestminster.ca
X-WR-CALDESC:Events for WorkBC Centre
REFRESH-INTERVAL;VALUE=DURATION:PT1H
X-Robots-Tag:noindex
X-PUBLISHED-TTL:PT1H
BEGIN:VTIMEZONE
TZID:America/Vancouver
BEGIN:DAYLIGHT
TZOFFSETFROM:-0800
TZOFFSETTO:-0700
TZNAME:PDT
DTSTART:20200308T100000
END:DAYLIGHT
BEGIN:STANDARD
TZOFFSETFROM:-0700
TZOFFSETTO:-0800
TZNAME:PST
DTSTART:20201101T090000
END:STANDARD
END:VTIMEZONE
BEGIN:VEVENT
DTSTART;TZID=America/Vancouver:20201026T093000
DTEND;TZID=America/Vancouver:20201026T123000
DTSTAMP:20260419T205024
CREATED:20200930T225046Z
LAST-MODIFIED:20200930T225046Z
UID:1480-1603704600-1603715400@www.workbccentre-newwestminster.ca
SUMMARY:Career Ex 1 Workshop
DESCRIPTION:
URL:/calendars/career-ex-1-workshop/
CATEGORIES:Workshop
END:VEVENT
END:VCALENDAR