BEGIN:VCALENDAR
VERSION:2.0
PRODID:-//WorkBC Centre - ECPv6.11.2//NONSGML v1.0//EN
CALSCALE:GREGORIAN
METHOD:PUBLISH
X-WR-CALNAME:WorkBC Centre
X-ORIGINAL-URL:https://www.workbccentre-newwestminster.ca
X-WR-CALDESC:Events for WorkBC Centre
REFRESH-INTERVAL;VALUE=DURATION:PT1H
X-Robots-Tag:noindex
X-PUBLISHED-TTL:PT1H
BEGIN:VTIMEZONE
TZID:America/Vancouver
BEGIN:DAYLIGHT
TZOFFSETFROM:-0800
TZOFFSETTO:-0700
TZNAME:PDT
DTSTART:20230312T100000
END:DAYLIGHT
BEGIN:STANDARD
TZOFFSETFROM:-0700
TZOFFSETTO:-0800
TZNAME:PST
DTSTART:20231105T090000
END:STANDARD
END:VTIMEZONE
BEGIN:VEVENT
DTSTART;VALUE=DATE:20230815
DTEND;VALUE=DATE:20230816
DTSTAMP:20260421T055315
CREATED:20230801T215301Z
LAST-MODIFIED:20230801T215651Z
UID:2695-1692057600-1692143999@www.workbccentre-newwestminster.ca
SUMMARY:Skills for Success - Day 6
DESCRIPTION:
URL:/calendars/skills-for-success-day-6/
CATEGORIES:Training
END:VEVENT
BEGIN:VEVENT
DTSTART;VALUE=DATE:20230814
DTEND;VALUE=DATE:20230815
DTSTAMP:20260421T055315
CREATED:20230801T215228Z
LAST-MODIFIED:20230801T215413Z
UID:2693-1691971200-1692057599@www.workbccentre-newwestminster.ca
SUMMARY:Skills for Success - Day 5
DESCRIPTION:
URL:/calendars/skills-for-success-day-5/
CATEGORIES:Training
END:VEVENT
BEGIN:VEVENT
DTSTART;TZID=America/Vancouver:20230809T080000
DTEND;TZID=America/Vancouver:20230809T170000
DTSTAMP:20260421T055315
CREATED:20230801T214537Z
LAST-MODIFIED:20230801T214648Z
UID:2682-1691568000-1691600400@www.workbccentre-newwestminster.ca
SUMMARY:Skills for Success - Day 4
DESCRIPTION:
URL:/calendars/skills-for-success-day-4/
CATEGORIES:Training
END:VEVENT
BEGIN:VEVENT
DTSTART;TZID=America/Vancouver:20230808T080000
DTEND;TZID=America/Vancouver:20230808T170000
DTSTAMP:20260421T055315
CREATED:20230801T214504Z
LAST-MODIFIED:20230801T214712Z
UID:2680-1691481600-1691514000@www.workbccentre-newwestminster.ca
SUMMARY:Skills for Success - Day 3
DESCRIPTION:
URL:/calendars/skills-for-success-day-3/
CATEGORIES:Training
END:VEVENT
BEGIN:VEVENT
DTSTART;TZID=America/Vancouver:20230801T080000
DTEND;TZID=America/Vancouver:20230801T170000
DTSTAMP:20260421T055315
CREATED:20230801T213532Z
LAST-MODIFIED:20230801T214724Z
UID:2674-1690876800-1690909200@www.workbccentre-newwestminster.ca
SUMMARY:Skills for Success - Day 2
DESCRIPTION:
URL:/calendars/skills-for-success-day-2/
CATEGORIES:Training
END:VEVENT
END:VCALENDAR