BEGIN:VCALENDAR
VERSION:2.0
PRODID:-//WorkBC Centre - ECPv6.11.2//NONSGML v1.0//EN
CALSCALE:GREGORIAN
METHOD:PUBLISH
X-WR-CALNAME:WorkBC Centre
X-ORIGINAL-URL:https://www.workbccentre-newwestminster.ca
X-WR-CALDESC:Events for WorkBC Centre
REFRESH-INTERVAL;VALUE=DURATION:PT1H
X-Robots-Tag:noindex
X-PUBLISHED-TTL:PT1H
BEGIN:VTIMEZONE
TZID:America/Vancouver
BEGIN:DAYLIGHT
TZOFFSETFROM:-0800
TZOFFSETTO:-0700
TZNAME:PDT
DTSTART:20210314T100000
END:DAYLIGHT
BEGIN:STANDARD
TZOFFSETFROM:-0700
TZOFFSETTO:-0800
TZNAME:PST
DTSTART:20211107T090000
END:STANDARD
END:VTIMEZONE
BEGIN:VEVENT
DTSTART;TZID=America/Vancouver:20211116T130000
DTEND;TZID=America/Vancouver:20211116T140000
DTSTAMP:20260419T120017
CREATED:20211029T205904Z
LAST-MODIFIED:20211029T212254Z
UID:2014-1637067600-1637071200@www.workbccentre-newwestminster.ca
SUMMARY:Employer Hiring Fair - The Compass Group
DESCRIPTION:Attend this virtual event from 1 – 2pm. Speak to recruiters\, network\, learn about available jobs. Register at https://workbcnewwest17.eventbrite.ca/ \n \n 
URL:/calendars/employer-hiring-fair-the-compass-group/
CATEGORIES:Event
END:VEVENT
END:VCALENDAR