BEGIN:VCALENDAR
VERSION:2.0
PRODID:-//WorkBC Centre - ECPv6.11.2//NONSGML v1.0//EN
CALSCALE:GREGORIAN
METHOD:PUBLISH
X-WR-CALNAME:WorkBC Centre
X-ORIGINAL-URL:https://www.workbccentre-newwestminster.ca
X-WR-CALDESC:Events for WorkBC Centre
REFRESH-INTERVAL;VALUE=DURATION:PT1H
X-Robots-Tag:noindex
X-PUBLISHED-TTL:PT1H
BEGIN:VTIMEZONE
TZID:America/Vancouver
BEGIN:DAYLIGHT
TZOFFSETFROM:-0800
TZOFFSETTO:-0700
TZNAME:PDT
DTSTART:20210314T100000
END:DAYLIGHT
BEGIN:STANDARD
TZOFFSETFROM:-0700
TZOFFSETTO:-0800
TZNAME:PST
DTSTART:20211107T090000
END:STANDARD
END:VTIMEZONE
BEGIN:VEVENT
DTSTART;TZID=America/Vancouver:20210608T130000
DTEND;TZID=America/Vancouver:20210608T140000
DTSTAMP:20260419T120011
CREATED:20210531T225830Z
LAST-MODIFIED:20210531T225830Z
UID:1761-1623157200-1623160800@www.workbccentre-newwestminster.ca
SUMMARY:Employer Speaker Series - Alliance Maintenance
DESCRIPTION:Alliance Maintenance is hiring for: \nCleaner\nConcierge\nCaretaker\nBMCC \nJoin us June 8th for a Virtual Session. Register on eventbrite at https://workbcnw7.eventbrite.ca
URL:/calendars/employer-speaker-series-alliance-maintenance/
CATEGORIES:Event
END:VEVENT
END:VCALENDAR