BEGIN:VCALENDAR
VERSION:2.0
PRODID:-//WorkBC Centre - ECPv6.11.2//NONSGML v1.0//EN
CALSCALE:GREGORIAN
METHOD:PUBLISH
X-WR-CALNAME:WorkBC Centre
X-ORIGINAL-URL:https://www.workbccentre-newwestminster.ca
X-WR-CALDESC:Events for WorkBC Centre
REFRESH-INTERVAL;VALUE=DURATION:PT1H
X-Robots-Tag:noindex
X-PUBLISHED-TTL:PT1H
BEGIN:VTIMEZONE
TZID:America/Vancouver
BEGIN:DAYLIGHT
TZOFFSETFROM:-0800
TZOFFSETTO:-0700
TZNAME:PDT
DTSTART:20190310T100000
END:DAYLIGHT
BEGIN:STANDARD
TZOFFSETFROM:-0700
TZOFFSETTO:-0800
TZNAME:PST
DTSTART:20191103T090000
END:STANDARD
END:VTIMEZONE
BEGIN:VEVENT
DTSTART;TZID=America/Vancouver:20191004T130000
DTEND;TZID=America/Vancouver:20191004T150000
DTSTAMP:20260419T205230
CREATED:20190930T224238Z
LAST-MODIFIED:20190930T224238Z
UID:1040-1570194000-1570201200@www.workbccentre-newwestminster.ca
SUMMARY:Employer Speaker Series / Hiring Event
DESCRIPTION:Join us as we host Stormtech.  Learn about the company and the available positions.  Bring your resume and apply for a job.
URL:/calendars/employer-speaker-series-hiring-event/
CATEGORIES:Event
END:VEVENT
END:VCALENDAR