BEGIN:VCALENDAR
VERSION:2.0
PRODID:-//WorkBC Centre - ECPv6.11.2//NONSGML v1.0//EN
CALSCALE:GREGORIAN
METHOD:PUBLISH
X-WR-CALNAME:WorkBC Centre
X-ORIGINAL-URL:https://www.workbccentre-newwestminster.ca
X-WR-CALDESC:Events for WorkBC Centre
REFRESH-INTERVAL;VALUE=DURATION:PT1H
X-Robots-Tag:noindex
X-PUBLISHED-TTL:PT1H
BEGIN:VTIMEZONE
TZID:America/Vancouver
BEGIN:DAYLIGHT
TZOFFSETFROM:-0800
TZOFFSETTO:-0700
TZNAME:PDT
DTSTART:20210314T100000
END:DAYLIGHT
BEGIN:STANDARD
TZOFFSETFROM:-0700
TZOFFSETTO:-0800
TZNAME:PST
DTSTART:20211107T090000
END:STANDARD
END:VTIMEZONE
BEGIN:VEVENT
DTSTART;TZID=America/Vancouver:20210323T130000
DTEND;TZID=America/Vancouver:20210323T140000
DTSTAMP:20260419T135011
CREATED:20210304T215804Z
LAST-MODIFIED:20210306T000020Z
UID:1641-1616504400-1616508000@www.workbccentre-newwestminster.ca
SUMMARY:Employer Speaker Series - Raymond James & Tree Island Steel
DESCRIPTION:Register for the event at www.workbcnwess4.eventbrite.ca
URL:/calendars/employer-speaker-series-raymond-james-tree-island-steel/
CATEGORIES:Event
END:VEVENT
END:VCALENDAR