BEGIN:VCALENDAR
VERSION:2.0
PRODID:-//WorkBC Centre - ECPv6.11.2//NONSGML v1.0//EN
CALSCALE:GREGORIAN
METHOD:PUBLISH
X-WR-CALNAME:WorkBC Centre
X-ORIGINAL-URL:https://www.workbccentre-newwestminster.ca
X-WR-CALDESC:Events for WorkBC Centre
REFRESH-INTERVAL;VALUE=DURATION:PT1H
X-Robots-Tag:noindex
X-PUBLISHED-TTL:PT1H
BEGIN:VTIMEZONE
TZID:America/Vancouver
BEGIN:DAYLIGHT
TZOFFSETFROM:-0800
TZOFFSETTO:-0700
TZNAME:PDT
DTSTART:20210314T100000
END:DAYLIGHT
BEGIN:STANDARD
TZOFFSETFROM:-0700
TZOFFSETTO:-0800
TZNAME:PST
DTSTART:20211107T090000
END:STANDARD
END:VTIMEZONE
BEGIN:VEVENT
DTSTART;TZID=America/Vancouver:20210715T130000
DTEND;TZID=America/Vancouver:20210715T140000
DTSTAMP:20260419T115935
CREATED:20210630T215726Z
LAST-MODIFIED:20210702T201445Z
UID:1810-1626354000-1626357600@www.workbccentre-newwestminster.ca
SUMMARY:Employer Speaker Series / Recruiting Event - 5 Star Building Services
DESCRIPTION:Register on Eventbrite https://workbcnewwest9.eventbrite.ca
URL:/calendars/employer-speaker-series-recruiting-event/
CATEGORIES:Event
END:VEVENT
END:VCALENDAR