BEGIN:VCALENDAR
VERSION:2.0
PRODID:-//WorkBC Centre - ECPv6.11.2//NONSGML v1.0//EN
CALSCALE:GREGORIAN
METHOD:PUBLISH
X-WR-CALNAME:WorkBC Centre
X-ORIGINAL-URL:https://www.workbccentre-newwestminster.ca
X-WR-CALDESC:Events for WorkBC Centre
REFRESH-INTERVAL;VALUE=DURATION:PT1H
X-Robots-Tag:noindex
X-PUBLISHED-TTL:PT1H
BEGIN:VTIMEZONE
TZID:America/Vancouver
BEGIN:DAYLIGHT
TZOFFSETFROM:-0800
TZOFFSETTO:-0700
TZNAME:PDT
DTSTART:20200308T100000
END:DAYLIGHT
BEGIN:STANDARD
TZOFFSETFROM:-0700
TZOFFSETTO:-0800
TZNAME:PST
DTSTART:20201101T090000
END:STANDARD
END:VTIMEZONE
BEGIN:VEVENT
DTSTART;TZID=America/Vancouver:20200803T083000
DTEND;TZID=America/Vancouver:20200803T163000
DTSTAMP:20260424T123126
CREATED:20200814T210455Z
LAST-MODIFIED:20200814T210455Z
UID:1406-1596443400-1596472200@www.workbccentre-newwestminster.ca
SUMMARY:Virtual One-on-One Resume & Cover Letter Support. Contact your Job Search Specialist to book an appointment.
DESCRIPTION:
URL:/calendars/virtual-one-on-one-resume-cover-letter-support-contact-your-job-search-specialist-to-book-an-appointment/
CATEGORIES:Workshop
END:VEVENT
BEGIN:VEVENT
DTSTART;TZID=America/Vancouver:20200810T083000
DTEND;TZID=America/Vancouver:20200810T163000
DTSTAMP:20260424T123126
CREATED:20200814T210539Z
LAST-MODIFIED:20200814T210539Z
UID:1408-1597048200-1597077000@www.workbccentre-newwestminster.ca
SUMMARY:Virtual One-on-One Resume & Cover Letter Support. Contact your Job Search Specialist to book an appointment.
DESCRIPTION:
URL:/calendars/virtual-one-on-one-resume-cover-letter-support-contact-your-job-search-specialist-to-book-an-appointment-2/
CATEGORIES:Workshop
END:VEVENT
BEGIN:VEVENT
DTSTART;TZID=America/Vancouver:20200814T083000
DTEND;TZID=America/Vancouver:20200815T163000
DTSTAMP:20260424T123126
CREATED:20200814T211052Z
LAST-MODIFIED:20200814T211228Z
UID:1419-1597393800-1597509000@www.workbccentre-newwestminster.ca
SUMMARY:All in-person Group workshops are currently CANCELLED. Please connect with your Job Search Specialist to schedule a one-on-one.
DESCRIPTION:
URL:/calendars/all-in-person-group-workshops-are-currently-cancelled-please-connect-with-your-job-search-specialist-to-schedule-a-one-on-one-2/
END:VEVENT
BEGIN:VEVENT
DTSTART;TZID=America/Vancouver:20200817T083000
DTEND;TZID=America/Vancouver:20200817T163000
DTSTAMP:20260424T123126
CREATED:20200814T210612Z
LAST-MODIFIED:20200814T210612Z
UID:1410-1597653000-1597681800@www.workbccentre-newwestminster.ca
SUMMARY:Virtual One-on-One Resume & Cover Letter Support. Contact your Job Search Specialist to book an appointment.
DESCRIPTION:
URL:/calendars/virtual-one-on-one-resume-cover-letter-support-contact-your-job-search-specialist-to-book-an-appointment-3/
CATEGORIES:Workshop
END:VEVENT
BEGIN:VEVENT
DTSTART;TZID=America/Vancouver:20200818T083000
DTEND;TZID=America/Vancouver:20200818T163000
DTSTAMP:20260424T123126
CREATED:20200814T210848Z
LAST-MODIFIED:20200814T210848Z
UID:1415-1597739400-1597768200@www.workbccentre-newwestminster.ca
SUMMARY:All in-person Group workshops are currently CANCELLED. Please connect with your Job Search Specialist to schedule a one-on-one.
DESCRIPTION:
URL:/calendars/all-in-person-group-workshops-are-currently-cancelled-please-connect-with-your-job-search-specialist-to-schedule-a-one-on-one/
CATEGORIES:Workshop
END:VEVENT
BEGIN:VEVENT
DTSTART;TZID=America/Vancouver:20200824T083000
DTEND;TZID=America/Vancouver:20200824T173000
DTSTAMP:20260424T123126
CREATED:20200814T210633Z
LAST-MODIFIED:20200814T210633Z
UID:1412-1598257800-1598290200@www.workbccentre-newwestminster.ca
SUMMARY:Virtual One-on-One Resume & Cover Letter Support. Contact your Job Search Specialist to book an appointment.
DESCRIPTION:
URL:/calendars/virtual-one-on-one-resume-cover-letter-support-contact-your-job-search-specialist-to-book-an-appointment-4/
CATEGORIES:Workshop
END:VEVENT
BEGIN:VEVENT
DTSTART;TZID=America/Vancouver:20200825T130000
DTEND;TZID=America/Vancouver:20200825T140000
DTSTAMP:20260424T123126
CREATED:20200814T211841Z
LAST-MODIFIED:20200814T211841Z
UID:1423-1598360400-1598364000@www.workbccentre-newwestminster.ca
SUMMARY:Virtual Employer Speaker Series & Hiring Event - Arc'Teryx
DESCRIPTION:Join us for an online information and hiring event as we host Arc’Teryx\, a high\nperformance outdoor equipment company. Do you have industrial sewing skills and excellent\nattention to detail? Attend the session to learn about the company\, available jobs and\nthe hiring process. \nArc’teryx is Currently Hiring Sewing Machine Operators in the New Westminster location. \nRegistration is Required.\nPlease register with your Job Search Specialist or call 604-522-9701.\nA link will be emailed to registered participants before the session.
URL:/calendars/virtual-employer-speaker-series-hiring-event-arcteryx/
CATEGORIES:Event
END:VEVENT
BEGIN:VEVENT
DTSTART;TZID=America/Vancouver:20200831T083000
DTEND;TZID=America/Vancouver:20200831T163000
DTSTAMP:20260424T123126
CREATED:20200814T211415Z
LAST-MODIFIED:20200814T211415Z
UID:1421-1598862600-1598891400@www.workbccentre-newwestminster.ca
SUMMARY:VIRTUAL ONE-ON-ONE RESUME & COVER LETTER SUPPORT. CONTACT YOUR JOB SEARCH SPECIALIST TO BOOK AN APPOINTMENT.
DESCRIPTION:
URL:/calendars/virtual-one-on-one-resume-cover-letter-support-contact-your-job-search-specialist-to-book-an-appointment-5/
END:VEVENT
END:VCALENDAR