BEGIN:VCALENDAR
VERSION:2.0
PRODID:-//WorkBC Centre - ECPv6.11.2//NONSGML v1.0//EN
CALSCALE:GREGORIAN
METHOD:PUBLISH
X-WR-CALNAME:WorkBC Centre
X-ORIGINAL-URL:https://www.workbccentre-newwestminster.ca
X-WR-CALDESC:Events for WorkBC Centre
REFRESH-INTERVAL;VALUE=DURATION:PT1H
X-Robots-Tag:noindex
X-PUBLISHED-TTL:PT1H
BEGIN:VTIMEZONE
TZID:America/Vancouver
BEGIN:DAYLIGHT
TZOFFSETFROM:-0800
TZOFFSETTO:-0700
TZNAME:PDT
DTSTART:20210314T100000
END:DAYLIGHT
BEGIN:STANDARD
TZOFFSETFROM:-0700
TZOFFSETTO:-0800
TZNAME:PST
DTSTART:20211107T090000
END:STANDARD
END:VTIMEZONE
BEGIN:VEVENT
DTSTART;TZID=America/Vancouver:20210504T130000
DTEND;TZID=America/Vancouver:20210504T140000
DTSTAMP:20260422T155108
CREATED:20210428T221749Z
LAST-MODIFIED:20210428T222841Z
UID:1733-1620133200-1620136800@www.workbccentre-newwestminster.ca
SUMMARY:Employer Speaker Series - 5 Star Building Services
DESCRIPTION:Registration:\nwww.workbcnwess5.eventbrite.ca or call 604-522-9701.
URL:/calendars/employer-speaker-series-5-star-building-services/
CATEGORIES:Event
END:VEVENT
BEGIN:VEVENT
DTSTART;TZID=America/Vancouver:20210510T093000
DTEND;TZID=America/Vancouver:20210510T123000
DTSTAMP:20260422T155108
CREATED:20210428T215448Z
LAST-MODIFIED:20210428T215448Z
UID:1706-1620639000-1620649800@www.workbccentre-newwestminster.ca
SUMMARY:Career Ex 1
DESCRIPTION:
URL:/calendars/career-ex-1-2/
CATEGORIES:Workshop
END:VEVENT
BEGIN:VEVENT
DTSTART;TZID=America/Vancouver:20210511T093000
DTEND;TZID=America/Vancouver:20210511T123000
DTSTAMP:20260422T155108
CREATED:20210428T215559Z
LAST-MODIFIED:20210428T215559Z
UID:1708-1620725400-1620736200@www.workbccentre-newwestminster.ca
SUMMARY:Career Ex 2
DESCRIPTION:
URL:/calendars/career-ex-2-3/
CATEGORIES:Workshop
END:VEVENT
BEGIN:VEVENT
DTSTART;TZID=America/Vancouver:20210512T093000
DTEND;TZID=America/Vancouver:20210512T123000
DTSTAMP:20260422T155108
CREATED:20210428T215638Z
LAST-MODIFIED:20210428T215638Z
UID:1710-1620811800-1620822600@www.workbccentre-newwestminster.ca
SUMMARY:Career Ex 3 (CG)
DESCRIPTION:
URL:/calendars/career-ex-3-cg-2/
CATEGORIES:Workshop
END:VEVENT
BEGIN:VEVENT
DTSTART;VALUE=DATE:20210524
DTEND;VALUE=DATE:20210525
DTSTAMP:20260422T155108
CREATED:20210428T220505Z
LAST-MODIFIED:20210428T220534Z
UID:1724-1621814400-1621900799@www.workbccentre-newwestminster.ca
SUMMARY:Stat Holiday Victoria Day - Office Closed
DESCRIPTION:
URL:/calendars/stat-holiday-victoria-day/
CATEGORIES:Event
END:VEVENT
BEGIN:VEVENT
DTSTART;TZID=America/Vancouver:20210525T093000
DTEND;TZID=America/Vancouver:20210525T123000
DTSTAMP:20260422T155108
CREATED:20210428T215827Z
LAST-MODIFIED:20210428T215840Z
UID:1712-1621935000-1621945800@www.workbccentre-newwestminster.ca
SUMMARY:Job Search   Workshop
DESCRIPTION:
URL:/calendars/job-search-workshop-cg/
CATEGORIES:Workshop
END:VEVENT
BEGIN:VEVENT
DTSTART;TZID=America/Vancouver:20210525T130000
DTEND;TZID=America/Vancouver:20210525T140000
DTSTAMP:20260422T155108
CREATED:20210428T222936Z
LAST-MODIFIED:20210512T181228Z
UID:1742-1621947600-1621951200@www.workbccentre-newwestminster.ca
SUMMARY:Employer Speaker Series - AMAZON
DESCRIPTION:Register for event on Eventbrite – https://workbcnwess6.eventbrite.ca
URL:/calendars/employer-speaker-series-amazon/
END:VEVENT
BEGIN:VEVENT
DTSTART;TZID=America/Vancouver:20210526T093000
DTEND;TZID=America/Vancouver:20210526T123000
DTSTAMP:20260422T155108
CREATED:20210428T215924Z
LAST-MODIFIED:20210428T215924Z
UID:1715-1622021400-1622032200@www.workbccentre-newwestminster.ca
SUMMARY:Resume Workshop
DESCRIPTION:
URL:/calendars/resume-workshop-9/
CATEGORIES:Workshop
END:VEVENT
BEGIN:VEVENT
DTSTART;TZID=America/Vancouver:20210526T130000
DTEND;TZID=America/Vancouver:20210526T143000
DTSTAMP:20260422T155108
CREATED:20210428T220904Z
LAST-MODIFIED:20210512T181850Z
UID:1727-1622034000-1622039400@www.workbccentre-newwestminster.ca
SUMMARY:Job Search During COVID: Transitioning to a New Career
DESCRIPTION:We are excited to be hosting this workshop in partnership with the New Westminster Public Library. In this workshop you will explore your personal values and experiences and understand how these can help inform your search for a new job or career. You will also be introduced to career assessment tools\, job search websites and some of the services available through WorkBC. \nPresented with the New Westminster Public Library  \nRegistration and Questions \nTo register\, or for more information\, call 604-527-4665 or email askus@nwpl.ca
URL:/calendars/job-search-during-covid-transitioning-to-a-new-career/
END:VEVENT
BEGIN:VEVENT
DTSTART;TZID=America/Vancouver:20210527T093000
DTEND;TZID=America/Vancouver:20210527T123000
DTSTAMP:20260422T155108
CREATED:20210428T220008Z
LAST-MODIFIED:20210428T220144Z
UID:1717-1622107800-1622118600@www.workbccentre-newwestminster.ca
SUMMARY:Cover Letter Workshop
DESCRIPTION:
URL:/calendars/cover-letter-workshop-8/
CATEGORIES:Workshop
END:VEVENT
BEGIN:VEVENT
DTSTART;TZID=America/Vancouver:20210527T113000
DTEND;TZID=America/Vancouver:20210527T123000
DTSTAMP:20260422T155108
CREATED:20210519T203533Z
LAST-MODIFIED:20210519T203714Z
UID:1756-1622115000-1622118600@www.workbccentre-newwestminster.ca
SUMMARY:WorkBC Wage Subsidy Info Session for Employers
DESCRIPTION:Register through www.newwestchamber.com
URL:/calendars/workbc-wage-subsidy-info-session-for-employers/
CATEGORIES:Event
END:VEVENT
BEGIN:VEVENT
DTSTART;TZID=America/Vancouver:20210528T093000
DTEND;TZID=America/Vancouver:20210528T123000
DTSTAMP:20260422T155108
CREATED:20210428T220302Z
LAST-MODIFIED:20210428T220302Z
UID:1720-1622194200-1622205000@www.workbccentre-newwestminster.ca
SUMMARY:Interview Skills
DESCRIPTION:
URL:/calendars/interview-skills-24/
CATEGORIES:Workshop
END:VEVENT
BEGIN:VEVENT
DTSTART;TZID=America/Vancouver:20210531T093000
DTEND;TZID=America/Vancouver:20210531T123000
DTSTAMP:20260422T155108
CREATED:20210428T220402Z
LAST-MODIFIED:20210428T220402Z
UID:1722-1622453400-1622464200@www.workbccentre-newwestminster.ca
SUMMARY:Job Search Follow Ups
DESCRIPTION:
URL:/calendars/job-search-follow-ups/
CATEGORIES:Workshop
END:VEVENT
END:VCALENDAR