BEGIN:VCALENDAR
VERSION:2.0
PRODID:-//WorkBC Centre - ECPv6.11.2//NONSGML v1.0//EN
CALSCALE:GREGORIAN
METHOD:PUBLISH
X-WR-CALNAME:WorkBC Centre
X-ORIGINAL-URL:https://www.workbccentre-newwestminster.ca
X-WR-CALDESC:Events for WorkBC Centre
REFRESH-INTERVAL;VALUE=DURATION:PT1H
X-Robots-Tag:noindex
X-PUBLISHED-TTL:PT1H
BEGIN:VTIMEZONE
TZID:America/Vancouver
BEGIN:DAYLIGHT
TZOFFSETFROM:-0800
TZOFFSETTO:-0700
TZNAME:PDT
DTSTART:20210314T100000
END:DAYLIGHT
BEGIN:STANDARD
TZOFFSETFROM:-0700
TZOFFSETTO:-0800
TZNAME:PST
DTSTART:20211107T090000
END:STANDARD
END:VTIMEZONE
BEGIN:VEVENT
DTSTART;VALUE=DATE:20210701
DTEND;VALUE=DATE:20210702
DTSTAMP:20260422T083809
CREATED:20210630T215405Z
LAST-MODIFIED:20210630T215405Z
UID:1804-1625097600-1625183999@www.workbccentre-newwestminster.ca
SUMMARY:Canada Day Stat
DESCRIPTION:Centre closed.
URL:/calendars/canada-day-stat/
END:VEVENT
BEGIN:VEVENT
DTSTART;TZID=America/Vancouver:20210714T093000
DTEND;TZID=America/Vancouver:20210714T123000
DTSTAMP:20260422T083809
CREATED:20210630T215508Z
LAST-MODIFIED:20210630T215508Z
UID:1806-1626255000-1626265800@www.workbccentre-newwestminster.ca
SUMMARY:Career Ex. 1
DESCRIPTION:
URL:/calendars/career-ex-1-4/
CATEGORIES:Workshop
END:VEVENT
BEGIN:VEVENT
DTSTART;TZID=America/Vancouver:20210715T093000
DTEND;TZID=America/Vancouver:20210715T123000
DTSTAMP:20260422T083809
CREATED:20210630T215545Z
LAST-MODIFIED:20210630T215545Z
UID:1808-1626341400-1626352200@www.workbccentre-newwestminster.ca
SUMMARY:Career Ex. 2
DESCRIPTION:
URL:/calendars/career-ex-2-5/
CATEGORIES:Workshop
END:VEVENT
BEGIN:VEVENT
DTSTART;TZID=America/Vancouver:20210715T130000
DTEND;TZID=America/Vancouver:20210715T140000
DTSTAMP:20260422T083809
CREATED:20210630T215726Z
LAST-MODIFIED:20210702T201445Z
UID:1810-1626354000-1626357600@www.workbccentre-newwestminster.ca
SUMMARY:Employer Speaker Series / Recruiting Event - 5 Star Building Services
DESCRIPTION:Register on Eventbrite https://workbcnewwest9.eventbrite.ca
URL:/calendars/employer-speaker-series-recruiting-event/
CATEGORIES:Event
END:VEVENT
BEGIN:VEVENT
DTSTART;TZID=America/Vancouver:20210716T093000
DTEND;TZID=America/Vancouver:20210716T123000
DTSTAMP:20260422T083809
CREATED:20210630T215815Z
LAST-MODIFIED:20210630T215815Z
UID:1812-1626427800-1626438600@www.workbccentre-newwestminster.ca
SUMMARY:Career Ex 3
DESCRIPTION:
URL:/calendars/career-ex-3-4/
CATEGORIES:Workshop
END:VEVENT
BEGIN:VEVENT
DTSTART;TZID=America/Vancouver:20210720T100000
DTEND;TZID=America/Vancouver:20210720T103000
DTSTAMP:20260422T083809
CREATED:20210713T173135Z
LAST-MODIFIED:20210713T173135Z
UID:1838-1626775200-1626777000@www.workbccentre-newwestminster.ca
SUMMARY:Virtual Information Session WorkBC Services
DESCRIPTION:If you are wondering how WorkBC can support your employment planning\, we invite you to join our upcoming virtual information session on job search services.  The session will take place on July 20\, 2021 at 10:00am. Register to attend. https://workbcnewwest.eventbrite.ca
URL:/calendars/virtual-information-session-workbc-services/
CATEGORIES:Event
END:VEVENT
BEGIN:VEVENT
DTSTART;TZID=America/Vancouver:20210726T093000
DTEND;TZID=America/Vancouver:20210726T120000
DTSTAMP:20260422T083809
CREATED:20210630T215918Z
LAST-MODIFIED:20210630T215918Z
UID:1814-1627291800-1627300800@www.workbccentre-newwestminster.ca
SUMMARY:Job Search
DESCRIPTION:
URL:/calendars/job-search-28/
CATEGORIES:Workshop
END:VEVENT
BEGIN:VEVENT
DTSTART;TZID=America/Vancouver:20210727T093000
DTEND;TZID=America/Vancouver:20210727T120000
DTSTAMP:20260422T083809
CREATED:20210630T215959Z
LAST-MODIFIED:20210630T215959Z
UID:1816-1627378200-1627387200@www.workbccentre-newwestminster.ca
SUMMARY:Resume Workshop
DESCRIPTION:
URL:/calendars/resume-workshop-10/
CATEGORIES:Workshop
END:VEVENT
BEGIN:VEVENT
DTSTART;TZID=America/Vancouver:20210727T100000
DTEND;TZID=America/Vancouver:20210727T110000
DTSTAMP:20260422T083809
CREATED:20210708T161800Z
LAST-MODIFIED:20210708T161857Z
UID:1831-1627380000-1627383600@www.workbccentre-newwestminster.ca
SUMMARY:Wage Subsidy Virtual information Session for Jobseekers
DESCRIPTION:Join us for a virtual information session to learn how jobseekers can benefit from the Wage Subsidy program. Register on https://workbcnewwest-wagesubsidy.eventbrite.ca \n 
URL:/calendars/wage-subsidy-information-virtual-information-session-for-jobseekers/
CATEGORIES:Event
END:VEVENT
BEGIN:VEVENT
DTSTART;TZID=America/Vancouver:20210728T080000
DTEND;TZID=America/Vancouver:20210728T170000
DTSTAMP:20260422T083809
CREATED:20210630T220047Z
LAST-MODIFIED:20210630T220047Z
UID:1818-1627459200-1627491600@www.workbccentre-newwestminster.ca
SUMMARY:Cover Letter
DESCRIPTION:
URL:/calendars/cover-letter-27/
CATEGORIES:Workshop
END:VEVENT
END:VCALENDAR