BEGIN:VCALENDAR
VERSION:2.0
PRODID:-//WorkBC Centre - ECPv6.11.2//NONSGML v1.0//EN
CALSCALE:GREGORIAN
METHOD:PUBLISH
X-ORIGINAL-URL:https://www.workbccentre-newwestminster.ca
X-WR-CALDESC:Events for WorkBC Centre
REFRESH-INTERVAL;VALUE=DURATION:PT1H
X-Robots-Tag:noindex
X-PUBLISHED-TTL:PT1H
BEGIN:VTIMEZONE
TZID:America/Vancouver
BEGIN:DAYLIGHT
TZOFFSETFROM:-0800
TZOFFSETTO:-0700
TZNAME:PDT
DTSTART:20210314T100000
END:DAYLIGHT
BEGIN:STANDARD
TZOFFSETFROM:-0700
TZOFFSETTO:-0800
TZNAME:PST
DTSTART:20211107T090000
END:STANDARD
END:VTIMEZONE
BEGIN:VEVENT
DTSTART;TZID=America/Vancouver:20211109T093000
DTEND;TZID=America/Vancouver:20211109T123000
DTSTAMP:20260421T174759
CREATED:20211029T205137Z
LAST-MODIFIED:20211029T205137Z
UID:2005-1636450200-1636461000@www.workbccentre-newwestminster.ca
SUMMARY:Career Ex 1
DESCRIPTION:
URL:/calendars/career-ex-1-8/
CATEGORIES:Workshop
END:VEVENT
BEGIN:VEVENT
DTSTART;TZID=America/Vancouver:20211110T093000
DTEND;TZID=America/Vancouver:20211110T123000
DTSTAMP:20260421T174759
CREATED:20211029T205236Z
LAST-MODIFIED:20211029T205331Z
UID:2007-1636536600-1636547400@www.workbccentre-newwestminster.ca
SUMMARY:Career Ex 2
DESCRIPTION:
URL:/calendars/career-ex-2-9/
CATEGORIES:Workshop
END:VEVENT
BEGIN:VEVENT
DTSTART;VALUE=DATE:20211111
DTEND;VALUE=DATE:20211112
DTSTAMP:20260421T174759
CREATED:20211029T205423Z
LAST-MODIFIED:20211029T205423Z
UID:2010-1636588800-1636675199@www.workbccentre-newwestminster.ca
SUMMARY:Remembrance Day - Stat
DESCRIPTION:Office Closed.
URL:/calendars/remembrance-day-stat/
CATEGORIES:Event
END:VEVENT
BEGIN:VEVENT
DTSTART;TZID=America/Vancouver:20211116T093000
DTEND;TZID=America/Vancouver:20211116T123000
DTSTAMP:20260421T174759
CREATED:20211029T205527Z
LAST-MODIFIED:20211029T205527Z
UID:2012-1637055000-1637065800@www.workbccentre-newwestminster.ca
SUMMARY:Career Ex 3
DESCRIPTION:
URL:/calendars/career-ex-3-8/
CATEGORIES:Workshop
END:VEVENT
BEGIN:VEVENT
DTSTART;TZID=America/Vancouver:20211116T130000
DTEND;TZID=America/Vancouver:20211116T140000
DTSTAMP:20260421T174759
CREATED:20211029T205904Z
LAST-MODIFIED:20211029T212254Z
UID:2014-1637067600-1637071200@www.workbccentre-newwestminster.ca
SUMMARY:Employer Hiring Fair - The Compass Group
DESCRIPTION:Attend this virtual event from 1 – 2pm. Speak to recruiters\, network\, learn about available jobs. Register at https://workbcnewwest17.eventbrite.ca/ \n \n 
URL:/calendars/employer-hiring-fair-the-compass-group/
CATEGORIES:Event
END:VEVENT
BEGIN:VEVENT
DTSTART;TZID=America/Vancouver:20211117T110000
DTEND;TZID=America/Vancouver:20211117T120000
DTSTAMP:20260421T174759
CREATED:20211101T182050Z
LAST-MODIFIED:20211101T182050Z
UID:2028-1637146800-1637150400@www.workbccentre-newwestminster.ca
SUMMARY:Moving Your Career Forward Virtual Information Session
DESCRIPTION:Changing careers? Getting back into the workforce? Join us for an online information session to learn about the WorkBC services available to help you succeed in your job search. Find out how to access and apply for services on-line.  \nWorkshops\, self-serve & case managed services\, funding supports and other services are available through your local WorkBC Centre. Speak to our specialist about how we can support you.  \nThere will be an opportunity for Q & A following the presentation. Register today @ https://workbcnewwest18.eventbrite.ca
URL:/calendars/moving-your-career-forward-virtual-information-session/
CATEGORIES:Event
END:VEVENT
BEGIN:VEVENT
DTSTART;TZID=America/Vancouver:20211118T093000
DTEND;TZID=America/Vancouver:20211118T123000
DTSTAMP:20260421T174759
CREATED:20211029T212346Z
LAST-MODIFIED:20211029T213348Z
UID:2020-1637227800-1637238600@www.workbccentre-newwestminster.ca
SUMMARY:Resume
DESCRIPTION:
URL:/calendars/resume-25/
CATEGORIES:Workshop
END:VEVENT
BEGIN:VEVENT
DTSTART;TZID=America/Vancouver:20211119T093000
DTEND;TZID=America/Vancouver:20211119T123000
DTSTAMP:20260421T174759
CREATED:20211029T212422Z
LAST-MODIFIED:20211029T212422Z
UID:2022-1637314200-1637325000@www.workbccentre-newwestminster.ca
SUMMARY:Cover Letter
DESCRIPTION:
URL:/calendars/cover-letter-31/
CATEGORIES:Workshop
END:VEVENT
BEGIN:VEVENT
DTSTART;TZID=America/Vancouver:20211124T093000
DTEND;TZID=America/Vancouver:20211124T123000
DTSTAMP:20260421T174759
CREATED:20211029T212545Z
LAST-MODIFIED:20211029T212545Z
UID:2024-1637746200-1637757000@www.workbccentre-newwestminster.ca
SUMMARY:Interviews 1
DESCRIPTION:
URL:/calendars/interviews-1/
CATEGORIES:Workshop
END:VEVENT
BEGIN:VEVENT
DTSTART;TZID=America/Vancouver:20211125T093000
DTEND;TZID=America/Vancouver:20211125T123000
DTSTAMP:20260421T174759
CREATED:20211029T212621Z
LAST-MODIFIED:20211029T212621Z
UID:2026-1637832600-1637843400@www.workbccentre-newwestminster.ca
SUMMARY:Interviews 2
DESCRIPTION:
URL:/calendars/interviews-2-2/
CATEGORIES:Workshop
END:VEVENT
END:VCALENDAR