BEGIN:VCALENDAR
VERSION:2.0
PRODID:-//WorkBC Centre - ECPv6.11.2//NONSGML v1.0//EN
CALSCALE:GREGORIAN
METHOD:PUBLISH
X-ORIGINAL-URL:https://www.workbccentre-newwestminster.ca
X-WR-CALDESC:Events for WorkBC Centre
REFRESH-INTERVAL;VALUE=DURATION:PT1H
X-Robots-Tag:noindex
X-PUBLISHED-TTL:PT1H
BEGIN:VTIMEZONE
TZID:America/Vancouver
BEGIN:DAYLIGHT
TZOFFSETFROM:-0800
TZOFFSETTO:-0700
TZNAME:PDT
DTSTART:20210314T100000
END:DAYLIGHT
BEGIN:STANDARD
TZOFFSETFROM:-0700
TZOFFSETTO:-0800
TZNAME:PST
DTSTART:20211107T090000
END:STANDARD
END:VTIMEZONE
BEGIN:VEVENT
DTSTART;TZID=America/Vancouver:20211206T093000
DTEND;TZID=America/Vancouver:20211206T123000
DTSTAMP:20260421T174802
CREATED:20211122T231531Z
LAST-MODIFIED:20211122T231607Z
UID:2033-1638783000-1638793800@www.workbccentre-newwestminster.ca
SUMMARY:Career Ex. 1
DESCRIPTION:
URL:/calendars/career-ex-1-9/
CATEGORIES:Workshop
END:VEVENT
BEGIN:VEVENT
DTSTART;TZID=America/Vancouver:20211207T093000
DTEND;TZID=America/Vancouver:20211207T123000
DTSTAMP:20260421T174802
CREATED:20211122T231637Z
LAST-MODIFIED:20211122T231637Z
UID:2035-1638869400-1638880200@www.workbccentre-newwestminster.ca
SUMMARY:Career Ex. 2
DESCRIPTION:
URL:/calendars/career-ex-2-10/
CATEGORIES:Workshop
END:VEVENT
BEGIN:VEVENT
DTSTART;TZID=America/Vancouver:20211213T093000
DTEND;TZID=America/Vancouver:20211213T123000
DTSTAMP:20260421T174802
CREATED:20211122T231740Z
LAST-MODIFIED:20211122T231740Z
UID:2038-1639387800-1639398600@www.workbccentre-newwestminster.ca
SUMMARY:Career Ex. 3
DESCRIPTION:
URL:/calendars/career-ex-3-9/
CATEGORIES:Workshop
END:VEVENT
BEGIN:VEVENT
DTSTART;TZID=America/Vancouver:20211216T093000
DTEND;TZID=America/Vancouver:20211216T123000
DTSTAMP:20260421T174802
CREATED:20211122T231848Z
LAST-MODIFIED:20211122T231848Z
UID:2040-1639647000-1639657800@www.workbccentre-newwestminster.ca
SUMMARY:Resume
DESCRIPTION:
URL:/calendars/resume-26/
CATEGORIES:Workshop
END:VEVENT
BEGIN:VEVENT
DTSTART;TZID=America/Vancouver:20211217T093000
DTEND;TZID=America/Vancouver:20211217T123000
DTSTAMP:20260421T174802
CREATED:20211122T231916Z
LAST-MODIFIED:20211122T231916Z
UID:2042-1639733400-1639744200@www.workbccentre-newwestminster.ca
SUMMARY:Cover Letter
DESCRIPTION:
URL:/calendars/cover-letter-32/
CATEGORIES:Workshop
END:VEVENT
BEGIN:VEVENT
DTSTART;VALUE=DATE:20211224
DTEND;VALUE=DATE:20211225
DTSTAMP:20260421T174802
CREATED:20211122T232057Z
LAST-MODIFIED:20211122T232245Z
UID:2044-1640304000-1640390399@www.workbccentre-newwestminster.ca
SUMMARY:Stat Holiday
DESCRIPTION:Office Closed for Christmas Stat.
URL:/calendars/2044/
CATEGORIES:Event
END:VEVENT
BEGIN:VEVENT
DTSTART;VALUE=DATE:20211225
DTEND;VALUE=DATE:20211226
DTSTAMP:20260421T174802
CREATED:20211122T232317Z
LAST-MODIFIED:20211209T194548Z
UID:2048-1640390400-1640476799@www.workbccentre-newwestminster.ca
SUMMARY:Christmas Day
DESCRIPTION:
URL:/calendars/christmas-day/
CATEGORIES:Event
END:VEVENT
BEGIN:VEVENT
DTSTART;VALUE=DATE:20211227
DTEND;VALUE=DATE:20211228
DTSTAMP:20260421T174802
CREATED:20211209T194358Z
LAST-MODIFIED:20211209T194358Z
UID:2062-1640563200-1640649599@www.workbccentre-newwestminster.ca
SUMMARY:Stat Holiday
DESCRIPTION:
URL:/calendars/stat-holiday-3/
CATEGORIES:Event
END:VEVENT
END:VCALENDAR