BEGIN:VCALENDAR
VERSION:2.0
PRODID:-//WorkBC Centre - ECPv6.11.2//NONSGML v1.0//EN
CALSCALE:GREGORIAN
METHOD:PUBLISH
X-WR-CALNAME:WorkBC Centre
X-ORIGINAL-URL:https://www.workbccentre-newwestminster.ca
X-WR-CALDESC:Events for WorkBC Centre
REFRESH-INTERVAL;VALUE=DURATION:PT1H
X-Robots-Tag:noindex
X-PUBLISHED-TTL:PT1H
BEGIN:VTIMEZONE
TZID:America/Vancouver
BEGIN:DAYLIGHT
TZOFFSETFROM:-0800
TZOFFSETTO:-0700
TZNAME:PDT
DTSTART:20220313T100000
END:DAYLIGHT
BEGIN:STANDARD
TZOFFSETFROM:-0700
TZOFFSETTO:-0800
TZNAME:PST
DTSTART:20221106T090000
END:STANDARD
END:VTIMEZONE
BEGIN:VEVENT
DTSTART;VALUE=DATE:20220101
DTEND;VALUE=DATE:20220102
DTSTAMP:20260421T102050
CREATED:20211209T195146Z
LAST-MODIFIED:20211209T195230Z
UID:2066-1640995200-1641081599@www.workbccentre-newwestminster.ca
SUMMARY:Happy New Year
DESCRIPTION:
URL:/calendars/happy-new-year/
END:VEVENT
BEGIN:VEVENT
DTSTART;VALUE=DATE:20220103
DTEND;VALUE=DATE:20220104
DTSTAMP:20260421T102050
CREATED:20211209T194241Z
LAST-MODIFIED:20211209T194241Z
UID:2060-1641168000-1641254399@www.workbccentre-newwestminster.ca
SUMMARY:Stat Holiday
DESCRIPTION:
URL:/calendars/stat-holiday-2/
CATEGORIES:Event
END:VEVENT
BEGIN:VEVENT
DTSTART;TZID=America/Vancouver:20220112T130000
DTEND;TZID=America/Vancouver:20220112T160000
DTSTAMP:20260421T102050
CREATED:20211221T222533Z
LAST-MODIFIED:20211221T222533Z
UID:2074-1641992400-1642003200@www.workbccentre-newwestminster.ca
SUMMARY:Resume Workshop
DESCRIPTION:
URL:/calendars/resume-workshop-14/
CATEGORIES:Workshop
END:VEVENT
BEGIN:VEVENT
DTSTART;TZID=America/Vancouver:20220113T130000
DTEND;TZID=America/Vancouver:20220113T140000
DTSTAMP:20260421T102050
CREATED:20211209T194118Z
LAST-MODIFIED:20211223T231059Z
UID:2055-1642078800-1642082400@www.workbccentre-newwestminster.ca
SUMMARY:Employer Speaker - Avocette Technologies
DESCRIPTION:Please register on Eventbrite. https://workbcnewwest19.eventbrite.ca
URL:/calendars/employer-speaker-avocette-technologies/
CATEGORIES:Event
END:VEVENT
BEGIN:VEVENT
DTSTART;TZID=America/Vancouver:20220113T130000
DTEND;TZID=America/Vancouver:20220113T160000
DTSTAMP:20260421T102050
CREATED:20211221T222641Z
LAST-MODIFIED:20211221T222641Z
UID:2076-1642078800-1642089600@www.workbccentre-newwestminster.ca
SUMMARY:Cover Letter   Workshop
DESCRIPTION:
URL:/calendars/cover-letter-workshop-10/
CATEGORIES:Workshop
END:VEVENT
BEGIN:VEVENT
DTSTART;TZID=America/Vancouver:20220117T100000
DTEND;TZID=America/Vancouver:20220117T123000
DTSTAMP:20260421T102050
CREATED:20211221T222825Z
LAST-MODIFIED:20211221T222825Z
UID:2078-1642413600-1642422600@www.workbccentre-newwestminster.ca
SUMMARY:Career Ex 1
DESCRIPTION:
URL:/calendars/career-ex-1-10/
CATEGORIES:Workshop
END:VEVENT
BEGIN:VEVENT
DTSTART;TZID=America/Vancouver:20220118T100000
DTEND;TZID=America/Vancouver:20220118T123000
DTSTAMP:20260421T102050
CREATED:20211221T223016Z
LAST-MODIFIED:20211221T223016Z
UID:2080-1642500000-1642509000@www.workbccentre-newwestminster.ca
SUMMARY:Career Ex 2
DESCRIPTION:
URL:/calendars/career-ex-2-11/
CATEGORIES:Workshop
END:VEVENT
BEGIN:VEVENT
DTSTART;TZID=America/Vancouver:20220120T100000
DTEND;TZID=America/Vancouver:20220120T123000
DTSTAMP:20260421T102050
CREATED:20211221T223129Z
LAST-MODIFIED:20211221T223129Z
UID:2082-1642672800-1642681800@www.workbccentre-newwestminster.ca
SUMMARY:Linkedin Workshop
DESCRIPTION:
URL:/calendars/linkedin-workshop/
CATEGORIES:Workshop
END:VEVENT
BEGIN:VEVENT
DTSTART;TZID=America/Vancouver:20220121T100000
DTEND;TZID=America/Vancouver:20220121T123000
DTSTAMP:20260421T102050
CREATED:20211221T223240Z
LAST-MODIFIED:20211221T223240Z
UID:2084-1642759200-1642768200@www.workbccentre-newwestminster.ca
SUMMARY:Career Ex 3
DESCRIPTION:
URL:/calendars/career-ex-3-10/
CATEGORIES:Workshop
END:VEVENT
BEGIN:VEVENT
DTSTART;TZID=America/Vancouver:20220126T100000
DTEND;TZID=America/Vancouver:20220126T120000
DTSTAMP:20260421T102050
CREATED:20211221T223428Z
LAST-MODIFIED:20211221T223428Z
UID:2086-1643191200-1643198400@www.workbccentre-newwestminster.ca
SUMMARY:Resume Workshop
DESCRIPTION:
URL:/calendars/resume-workshop-15/
CATEGORIES:Workshop
END:VEVENT
BEGIN:VEVENT
DTSTART;TZID=America/Vancouver:20220127T100000
DTEND;TZID=America/Vancouver:20220127T120000
DTSTAMP:20260421T102050
CREATED:20211221T223603Z
LAST-MODIFIED:20211221T223603Z
UID:2089-1643277600-1643284800@www.workbccentre-newwestminster.ca
SUMMARY:Cover Letter Workshop
DESCRIPTION:
URL:/calendars/cover-letter-workshop-11/
CATEGORIES:Workshop
END:VEVENT
END:VCALENDAR