BEGIN:VCALENDAR
VERSION:2.0
PRODID:-//WorkBC Centre - ECPv6.11.2//NONSGML v1.0//EN
CALSCALE:GREGORIAN
METHOD:PUBLISH
X-WR-CALNAME:WorkBC Centre
X-ORIGINAL-URL:https://www.workbccentre-newwestminster.ca
X-WR-CALDESC:Events for WorkBC Centre
REFRESH-INTERVAL;VALUE=DURATION:PT1H
X-Robots-Tag:noindex
X-PUBLISHED-TTL:PT1H
BEGIN:VTIMEZONE
TZID:America/Vancouver
BEGIN:DAYLIGHT
TZOFFSETFROM:-0800
TZOFFSETTO:-0700
TZNAME:PDT
DTSTART:20220313T100000
END:DAYLIGHT
BEGIN:STANDARD
TZOFFSETFROM:-0700
TZOFFSETTO:-0800
TZNAME:PST
DTSTART:20221106T090000
END:STANDARD
END:VTIMEZONE
BEGIN:VEVENT
DTSTART;TZID=America/Vancouver:20220307T100000
DTEND;TZID=America/Vancouver:20220307T123000
DTSTAMP:20260421T104307
CREATED:20220301T214057Z
LAST-MODIFIED:20220301T214057Z
UID:2162-1646647200-1646656200@www.workbccentre-newwestminster.ca
SUMMARY:Career Ex 1
DESCRIPTION:
URL:/calendars/career-ex-1-12/
END:VEVENT
BEGIN:VEVENT
DTSTART;TZID=America/Vancouver:20220308T100000
DTEND;TZID=America/Vancouver:20220308T123000
DTSTAMP:20260421T104307
CREATED:20220301T214141Z
LAST-MODIFIED:20220301T214141Z
UID:2164-1646733600-1646742600@www.workbccentre-newwestminster.ca
SUMMARY:Career Exploration 2
DESCRIPTION:
URL:/calendars/career-exploration-2-2/
CATEGORIES:Workshop
END:VEVENT
BEGIN:VEVENT
DTSTART;TZID=America/Vancouver:20220310T130000
DTEND;TZID=America/Vancouver:20220310T140000
DTSTAMP:20260421T104307
CREATED:20220301T215016Z
LAST-MODIFIED:20220301T215016Z
UID:2176-1646917200-1646920800@www.workbccentre-newwestminster.ca
SUMMARY:Virtual Employer Session - Tippett Richardson
DESCRIPTION:Register to attend on Eventbrite – https://workbcnewwest23.eventbrite.ca \n 
URL:/calendars/virtual-employer-session-tippett-richardson/
CATEGORIES:Event
END:VEVENT
BEGIN:VEVENT
DTSTART;TZID=America/Vancouver:20220314T100000
DTEND;TZID=America/Vancouver:20220314T123000
DTSTAMP:20260421T104307
CREATED:20220301T214229Z
LAST-MODIFIED:20220301T214229Z
UID:2166-1647252000-1647261000@www.workbccentre-newwestminster.ca
SUMMARY:Career Exploration 3
DESCRIPTION:
URL:/calendars/career-exploration-3/
CATEGORIES:Workshop
END:VEVENT
BEGIN:VEVENT
DTSTART;TZID=America/Vancouver:20220317T110000
DTEND;TZID=America/Vancouver:20220317T130000
DTSTAMP:20260421T104307
CREATED:20220301T214325Z
LAST-MODIFIED:20220301T214325Z
UID:2168-1647514800-1647522000@www.workbccentre-newwestminster.ca
SUMMARY:LinkedIN and Social Media
DESCRIPTION:
URL:/calendars/linkedin-and-social-media/
CATEGORIES:Workshop
END:VEVENT
BEGIN:VEVENT
DTSTART;TZID=America/Vancouver:20220317T140000
DTEND;TZID=America/Vancouver:20220317T160000
DTSTAMP:20260421T104307
CREATED:20220301T214355Z
LAST-MODIFIED:20220301T214355Z
UID:2170-1647525600-1647532800@www.workbccentre-newwestminster.ca
SUMMARY:Virtual Interviews\, MS Teams and Zoom
DESCRIPTION:
URL:/calendars/virtual-interviews-ms-teams-and-zoom/
CATEGORIES:Workshop
END:VEVENT
BEGIN:VEVENT
DTSTART;TZID=America/Vancouver:20220322T100000
DTEND;TZID=America/Vancouver:20220322T123000
DTSTAMP:20260421T104307
CREATED:20220301T214433Z
LAST-MODIFIED:20220301T214433Z
UID:2172-1647943200-1647952200@www.workbccentre-newwestminster.ca
SUMMARY:Resume
DESCRIPTION:
URL:/calendars/resume-27/
CATEGORIES:Workshop
END:VEVENT
BEGIN:VEVENT
DTSTART;TZID=America/Vancouver:20220323T100000
DTEND;TZID=America/Vancouver:20220323T123000
DTSTAMP:20260421T104307
CREATED:20220301T214527Z
LAST-MODIFIED:20220301T214527Z
UID:2174-1648029600-1648038600@www.workbccentre-newwestminster.ca
SUMMARY:Cover Letter Workshop
DESCRIPTION:
URL:/calendars/cover-letter-workshop-12/
CATEGORIES:Workshop
END:VEVENT
END:VCALENDAR