BEGIN:VCALENDAR
VERSION:2.0
PRODID:-//WorkBC Centre - ECPv6.11.2//NONSGML v1.0//EN
CALSCALE:GREGORIAN
METHOD:PUBLISH
X-ORIGINAL-URL:https://www.workbccentre-newwestminster.ca
X-WR-CALDESC:Events for WorkBC Centre
REFRESH-INTERVAL;VALUE=DURATION:PT1H
X-Robots-Tag:noindex
X-PUBLISHED-TTL:PT1H
BEGIN:VTIMEZONE
TZID:America/Vancouver
BEGIN:DAYLIGHT
TZOFFSETFROM:-0800
TZOFFSETTO:-0700
TZNAME:PDT
DTSTART:20220313T100000
END:DAYLIGHT
BEGIN:STANDARD
TZOFFSETFROM:-0700
TZOFFSETTO:-0800
TZNAME:PST
DTSTART:20221106T090000
END:STANDARD
END:VTIMEZONE
BEGIN:VEVENT
DTSTART;TZID=America/Vancouver:20220511T100000
DTEND;TZID=America/Vancouver:20220511T110000
DTSTAMP:20260420T224522
CREATED:20220428T172839Z
LAST-MODIFIED:20220428T173249Z
UID:2256-1652263200-1652266800@www.workbccentre-newwestminster.ca
SUMMARY:Labour Market Info & Career Exploration Presentation at the Welcome Centre.
DESCRIPTION:These Workshops will be held at the Welcome Center in New Westminster at 820th 6th Street\, New Westminster. Registration through the Welcome Centre – welcome@sd40.bc.ca \nLimits in place. All welcome. \n 
URL:/calendars/labour-market-info-career-exploration-presentation-at-the-welcome-centre/
END:VEVENT
BEGIN:VEVENT
DTSTART;TZID=America/Vancouver:20220511T100000
DTEND;TZID=America/Vancouver:20220511T123000
DTSTAMP:20260420T224522
CREATED:20220428T165542Z
LAST-MODIFIED:20220428T165739Z
UID:2238-1652263200-1652272200@www.workbccentre-newwestminster.ca
SUMMARY:Resume Workshop
DESCRIPTION:
URL:/calendars/resume-workshop-18/
CATEGORIES:Workshop
END:VEVENT
BEGIN:VEVENT
DTSTART;TZID=America/Vancouver:20220512T100000
DTEND;TZID=America/Vancouver:20220512T123000
DTSTAMP:20260420T224522
CREATED:20220428T165640Z
LAST-MODIFIED:20220428T170103Z
UID:2240-1652349600-1652358600@www.workbccentre-newwestminster.ca
SUMMARY:Cover Letter Workshop
DESCRIPTION:
URL:/calendars/cover-letter-workshop-15/
CATEGORIES:Workshop
END:VEVENT
BEGIN:VEVENT
DTSTART;TZID=America/Vancouver:20220513T110000
DTEND;TZID=America/Vancouver:20220513T120000
DTSTAMP:20260420T224522
CREATED:20220428T183228Z
LAST-MODIFIED:20220504T174032Z
UID:2276-1652439600-1652443200@www.workbccentre-newwestminster.ca
SUMMARY:Employer Information Session with BC Infrastructure Benefits
DESCRIPTION:Register on Eventbrite at https://workbcnewwest27.eventbrite.ca
URL:/calendars/employer-information-session-with-bc-infrastructure-benefits/
END:VEVENT
BEGIN:VEVENT
DTSTART;TZID=America/Vancouver:20220518T100000
DTEND;TZID=America/Vancouver:20220518T123000
DTSTAMP:20260420T224522
CREATED:20220428T170400Z
LAST-MODIFIED:20220428T170400Z
UID:2243-1652868000-1652877000@www.workbccentre-newwestminster.ca
SUMMARY:Career Ex 1
DESCRIPTION:
URL:/calendars/career-ex-1-14/
CATEGORIES:Workshop
END:VEVENT
BEGIN:VEVENT
DTSTART;TZID=America/Vancouver:20220518T130000
DTEND;TZID=America/Vancouver:20220518T143000
DTSTAMP:20260420T224522
CREATED:20220428T173458Z
LAST-MODIFIED:20220428T174651Z
UID:2263-1652878800-1652884200@www.workbccentre-newwestminster.ca
SUMMARY:WorkBC Employment Services Drop-in at New West Public Library
DESCRIPTION:WorkBC Employment Services Drop-in at NWPL | New Westminster Public Library \nThird Wednesday of every month from 1pm – 2:30pm. \n716 6th Avenue\nNew Westminster\, BC\nV3M 2B3 \nTakes place on the 2nd floor of the Library in the Gallery Room. Program is free and no registration required. \nFor more information contact the New Westminster Public Library by email:  askus@nwpl.ca or call: 604-527-4665.
URL:/calendars/workbc-employment-services-drop-in-at-new-west-public-library/
CATEGORIES:Event
END:VEVENT
BEGIN:VEVENT
DTSTART;TZID=America/Vancouver:20220519T100000
DTEND;TZID=America/Vancouver:20220519T123000
DTSTAMP:20260420T224522
CREATED:20220428T170443Z
LAST-MODIFIED:20220428T171000Z
UID:2245-1652954400-1652963400@www.workbccentre-newwestminster.ca
SUMMARY:Career Ex 2
DESCRIPTION:
URL:/calendars/career-ex-2-14/
END:VEVENT
BEGIN:VEVENT
DTSTART;VALUE=DATE:20220523
DTEND;VALUE=DATE:20220524
DTSTAMP:20260420T224522
CREATED:20220428T172206Z
LAST-MODIFIED:20220428T172206Z
UID:2253-1653264000-1653350399@www.workbccentre-newwestminster.ca
SUMMARY:Stat Holiday - Office Closed
DESCRIPTION:
URL:/calendars/stat-holiday-office-closed/
CATEGORIES:Event
END:VEVENT
BEGIN:VEVENT
DTSTART;TZID=America/Vancouver:20220524T100000
DTEND;TZID=America/Vancouver:20220524T123000
DTSTAMP:20260420T224522
CREATED:20220428T171051Z
LAST-MODIFIED:20220428T171051Z
UID:2247-1653386400-1653395400@www.workbccentre-newwestminster.ca
SUMMARY:Career Ex 3
DESCRIPTION:
URL:/calendars/career-ex-3-13/
CATEGORIES:Event
END:VEVENT
BEGIN:VEVENT
DTSTART;TZID=America/Vancouver:20220524T113000
DTEND;TZID=America/Vancouver:20220524T120000
DTSTAMP:20260420T224522
CREATED:20220428T183025Z
LAST-MODIFIED:20220428T183025Z
UID:2273-1653391800-1653393600@www.workbccentre-newwestminster.ca
SUMMARY:Working with You on Your Job Search - WorkBC Centre New Westminster
DESCRIPTION:Questions on job search services & how to apply? Join our info session on WorkBC Services. Open to all job seekers in the community. \nTo register call 604-522-9701 or email social@fraserworks.ca
URL:/calendars/working-with-you-on-your-job-search-workbc-centre-new-westminster-2/
END:VEVENT
BEGIN:VEVENT
DTSTART;TZID=America/Vancouver:20220528T110000
DTEND;TZID=America/Vancouver:20220528T163000
DTSTAMP:20260420T224522
CREATED:20220428T180202Z
LAST-MODIFIED:20220428T180202Z
UID:2270-1653735600-1653755400@www.workbccentre-newwestminster.ca
SUMMARY:Hyack International Parade & Street Fest.
DESCRIPTION:Come visit us and say hello at Tipperary Park for the Hyack Parade & Street Fest. \nhttps://www.hyackfestival.com/upcoming \n  \n 
URL:/calendars/hyack-international-parade-street-fest/
END:VEVENT
BEGIN:VEVENT
DTSTART;TZID=America/Vancouver:20220530T100000
DTEND;TZID=America/Vancouver:20220530T123000
DTSTAMP:20260420T224522
CREATED:20220428T171140Z
LAST-MODIFIED:20220428T171140Z
UID:2249-1653904800-1653913800@www.workbccentre-newwestminster.ca
SUMMARY:Resume Workshop
DESCRIPTION:
URL:/calendars/resume-workshop-19/
CATEGORIES:Workshop
END:VEVENT
BEGIN:VEVENT
DTSTART;TZID=America/Vancouver:20220531T100000
DTEND;TZID=America/Vancouver:20220531T123000
DTSTAMP:20260420T224522
CREATED:20220428T171212Z
LAST-MODIFIED:20220428T171212Z
UID:2251-1653991200-1654000200@www.workbccentre-newwestminster.ca
SUMMARY:Cover Letter
DESCRIPTION:
URL:/calendars/cover-letter-33/
CATEGORIES:Workshop
END:VEVENT
END:VCALENDAR