BEGIN:VCALENDAR
VERSION:2.0
PRODID:-//WorkBC Centre - ECPv6.11.2//NONSGML v1.0//EN
CALSCALE:GREGORIAN
METHOD:PUBLISH
X-ORIGINAL-URL:https://www.workbccentre-newwestminster.ca
X-WR-CALDESC:Events for WorkBC Centre
REFRESH-INTERVAL;VALUE=DURATION:PT1H
X-Robots-Tag:noindex
X-PUBLISHED-TTL:PT1H
BEGIN:VTIMEZONE
TZID:America/Vancouver
BEGIN:DAYLIGHT
TZOFFSETFROM:-0800
TZOFFSETTO:-0700
TZNAME:PDT
DTSTART:20220313T100000
END:DAYLIGHT
BEGIN:STANDARD
TZOFFSETFROM:-0700
TZOFFSETTO:-0800
TZNAME:PST
DTSTART:20221106T090000
END:STANDARD
END:VTIMEZONE
BEGIN:VEVENT
DTSTART;VALUE=DATE:20220701
DTEND;VALUE=DATE:20220702
DTSTAMP:20260420T190427
CREATED:20220704T210640Z
LAST-MODIFIED:20220704T210640Z
UID:2313-1656633600-1656719999@www.workbccentre-newwestminster.ca
SUMMARY:Canada Day Stat
DESCRIPTION:
URL:/calendars/canada-day-stat-2/
END:VEVENT
BEGIN:VEVENT
DTSTART;TZID=America/Vancouver:20220705T100000
DTEND;TZID=America/Vancouver:20220705T123000
DTSTAMP:20260420T190427
CREATED:20220704T210729Z
LAST-MODIFIED:20220704T210729Z
UID:2315-1657015200-1657024200@www.workbccentre-newwestminster.ca
SUMMARY:Resume Workshop
DESCRIPTION:
URL:/calendars/resume-workshop-22/
CATEGORIES:Workshop
END:VEVENT
BEGIN:VEVENT
DTSTART;TZID=America/Vancouver:20220706T100000
DTEND;TZID=America/Vancouver:20220706T123000
DTSTAMP:20260420T190427
CREATED:20220704T210826Z
LAST-MODIFIED:20220704T210826Z
UID:2317-1657101600-1657110600@www.workbccentre-newwestminster.ca
SUMMARY:Cover Letter Workshop
DESCRIPTION:
URL:/calendars/cover-letter-workshop-18/
CATEGORIES:Workshop
END:VEVENT
BEGIN:VEVENT
DTSTART;VALUE=DATE:20220716
DTEND;VALUE=DATE:20220717
DTSTAMP:20260420T190427
CREATED:20220704T211847Z
LAST-MODIFIED:20220704T211904Z
UID:2333-1657929600-1658015999@www.workbccentre-newwestminster.ca
SUMMARY:Come Visit WorkBC Centre New Westminster at Uptown Live
DESCRIPTION:FMI visit http://www.uptownlive.ca/ 
URL:/calendars/come-visit-workbc-centre-new-westminster-at-uptown-live/
CATEGORIES:Event
END:VEVENT
BEGIN:VEVENT
DTSTART;TZID=America/Vancouver:20220719T100000
DTEND;TZID=America/Vancouver:20220719T123000
DTSTAMP:20260420T190427
CREATED:20220704T210918Z
LAST-MODIFIED:20220704T210918Z
UID:2319-1658224800-1658233800@www.workbccentre-newwestminster.ca
SUMMARY:Resume Workshop
DESCRIPTION:
URL:/calendars/resume-workshop-23/
CATEGORIES:Workshop
END:VEVENT
BEGIN:VEVENT
DTSTART;TZID=America/Vancouver:20220720T100000
DTEND;TZID=America/Vancouver:20220720T123000
DTSTAMP:20260420T190427
CREATED:20220704T211000Z
LAST-MODIFIED:20220704T211000Z
UID:2321-1658311200-1658320200@www.workbccentre-newwestminster.ca
SUMMARY:Cover Letter
DESCRIPTION:
URL:/calendars/cover-letter-34/
CATEGORIES:Workshop
END:VEVENT
BEGIN:VEVENT
DTSTART;TZID=America/Vancouver:20220720T130000
DTEND;TZID=America/Vancouver:20220720T143000
DTSTAMP:20260420T190427
CREATED:20220704T211441Z
LAST-MODIFIED:20220704T211639Z
UID:2329-1658322000-1658327400@www.workbccentre-newwestminster.ca
SUMMARY:WorkBC Employment Services Drop-In @New West Public Library Main Branch
DESCRIPTION:WorkBC Employment Services Drop-in at NWPL \n\n\n \nDrop-in the third Wednesday of every month! \nWorkBC employment services will be on hand to help you with: \n\nresume questions\ninformation about the best job search engines\nassistance with interview strategies\nhelp with cover letters\nand more!\n\nThird Wednesday of every month from 1pm – 2:30pm. \nTakes place on the 2nd floor of the Library in the Gallery Room. Program is free and no registration required. For more information email askus@nwpl.ca or call 604-527-4665. \n 
URL:/calendars/workbc-employment-services-drop-in-nwpl/
CATEGORIES:Event
END:VEVENT
BEGIN:VEVENT
DTSTART;TZID=America/Vancouver:20220725T100000
DTEND;TZID=America/Vancouver:20220725T123000
DTSTAMP:20260420T190427
CREATED:20220704T211116Z
LAST-MODIFIED:20220704T211116Z
UID:2323-1658743200-1658752200@www.workbccentre-newwestminster.ca
SUMMARY:Career ex. 1
DESCRIPTION:
URL:/calendars/career-ex-1-16/
END:VEVENT
BEGIN:VEVENT
DTSTART;TZID=America/Vancouver:20220726T100000
DTEND;TZID=America/Vancouver:20220726T123000
DTSTAMP:20260420T190427
CREATED:20220704T211145Z
LAST-MODIFIED:20220704T211145Z
UID:2325-1658829600-1658838600@www.workbccentre-newwestminster.ca
SUMMARY:Career Ex. 2
DESCRIPTION:
URL:/calendars/career-ex-2-16/
CATEGORIES:Workshop
END:VEVENT
BEGIN:VEVENT
DTSTART;TZID=America/Vancouver:20220729T100000
DTEND;TZID=America/Vancouver:20220729T123000
DTSTAMP:20260420T190427
CREATED:20220704T211223Z
LAST-MODIFIED:20220704T211223Z
UID:2327-1659088800-1659097800@www.workbccentre-newwestminster.ca
SUMMARY:Career Ex. 3
DESCRIPTION:
URL:/calendars/career-ex-3-15/
CATEGORIES:Workshop
END:VEVENT
END:VCALENDAR