BEGIN:VCALENDAR
VERSION:2.0
PRODID:-//WorkBC Centre - ECPv6.11.2//NONSGML v1.0//EN
CALSCALE:GREGORIAN
METHOD:PUBLISH
X-WR-CALNAME:WorkBC Centre
X-ORIGINAL-URL:https://www.workbccentre-newwestminster.ca
X-WR-CALDESC:Events for WorkBC Centre
REFRESH-INTERVAL;VALUE=DURATION:PT1H
X-Robots-Tag:noindex
X-PUBLISHED-TTL:PT1H
BEGIN:VTIMEZONE
TZID:America/Vancouver
BEGIN:DAYLIGHT
TZOFFSETFROM:-0800
TZOFFSETTO:-0700
TZNAME:PDT
DTSTART:20220313T100000
END:DAYLIGHT
BEGIN:STANDARD
TZOFFSETFROM:-0700
TZOFFSETTO:-0800
TZNAME:PST
DTSTART:20221106T090000
END:STANDARD
END:VTIMEZONE
BEGIN:VEVENT
DTSTART;VALUE=DATE:20220901
DTEND;VALUE=DATE:20220902
DTSTAMP:20260420T153009
CREATED:20220829T211859Z
LAST-MODIFIED:20220829T212036Z
UID:2375-1661990400-1662076799@www.workbccentre-newwestminster.ca
SUMMARY:September is B.C. Disability Employment Month
DESCRIPTION:
URL:/calendars/september-is-b-c-disability-employment-month/
CATEGORIES:Event
END:VEVENT
BEGIN:VEVENT
DTSTART;VALUE=DATE:20220905
DTEND;VALUE=DATE:20220906
DTSTAMP:20260420T153009
CREATED:20220829T213045Z
LAST-MODIFIED:20220829T213045Z
UID:2378-1662336000-1662422399@www.workbccentre-newwestminster.ca
SUMMARY:Labour Day Stat
DESCRIPTION:Office Closed.
URL:/calendars/labour-day-stat-2/
CATEGORIES:Event
END:VEVENT
BEGIN:VEVENT
DTSTART;TZID=America/Vancouver:20220913T093000
DTEND;TZID=America/Vancouver:20220913T123000
DTSTAMP:20260420T153009
CREATED:20220829T213155Z
LAST-MODIFIED:20220829T213155Z
UID:2380-1663061400-1663072200@www.workbccentre-newwestminster.ca
SUMMARY:Resume Workshop
DESCRIPTION:
URL:/calendars/resume-workshop-26/
CATEGORIES:Workshop
END:VEVENT
BEGIN:VEVENT
DTSTART;TZID=America/Vancouver:20220915T093000
DTEND;TZID=America/Vancouver:20220915T123000
DTSTAMP:20260420T153009
CREATED:20220829T213255Z
LAST-MODIFIED:20220829T213255Z
UID:2382-1663234200-1663245000@www.workbccentre-newwestminster.ca
SUMMARY:Cover Letter Workshop
DESCRIPTION:
URL:/calendars/cover-letter-workshop-19/
CATEGORIES:Event
END:VEVENT
BEGIN:VEVENT
DTSTART;TZID=America/Vancouver:20220920T093000
DTEND;TZID=America/Vancouver:20220920T123000
DTSTAMP:20260420T153009
CREATED:20220829T213344Z
LAST-MODIFIED:20220914T175310Z
UID:2384-1663666200-1663677000@www.workbccentre-newwestminster.ca
SUMMARY:Career Exploration 1
DESCRIPTION:
URL:/calendars/career-exploration-1/
CATEGORIES:Workshop
END:VEVENT
BEGIN:VEVENT
DTSTART;TZID=America/Vancouver:20220920T110000
DTEND;TZID=America/Vancouver:20220920T140000
DTSTAMP:20260420T153009
CREATED:20220831T185056Z
LAST-MODIFIED:20220923T164218Z
UID:2402-1663671600-1663682400@www.workbccentre-newwestminster.ca
SUMMARY:Interview Skills Workshop - Re-Scheduled
DESCRIPTION:Due to unforeseen circumstances\, the workshop has been re-scheduled. All registrants will be contacted with the new date. \n\nInterview Skills  {Interview Preparation along with Mock Interview practice between the Clients} .\n\nPlease register with your case manager. Class limited to a Maximum of 8 clients.
URL:/calendars/interview-skills-workshop-5/
CATEGORIES:Workshop
END:VEVENT
BEGIN:VEVENT
DTSTART;TZID=America/Vancouver:20220921T093000
DTEND;TZID=America/Vancouver:20220921T123000
DTSTAMP:20260420T153009
CREATED:20220829T213437Z
LAST-MODIFIED:20220914T175359Z
UID:2386-1663752600-1663763400@www.workbccentre-newwestminster.ca
SUMMARY:Career Exploration 2
DESCRIPTION:
URL:/calendars/career-exploration-2-3/
CATEGORIES:Workshop
END:VEVENT
BEGIN:VEVENT
DTSTART;TZID=America/Vancouver:20220921T130000
DTEND;TZID=America/Vancouver:20220921T143000
DTSTAMP:20260420T153009
CREATED:20220831T184806Z
LAST-MODIFIED:20220831T184947Z
UID:2398-1663765200-1663770600@www.workbccentre-newwestminster.ca
SUMMARY:WorkBC Employment Services Drop-in at NWPL
DESCRIPTION:WorkBC Employment Services Drop-in at NWPL \n\n\n \nDrop-in the third Wednesday of every month! \nWorkBC employment services will be on hand to help you with: \n\nresume questions\ninformation about the best job search engines\nassistance with interview strategies\nhelp with cover letters\nand more!\n\nThird Wednesday of every month from 1pm – 2:30pm. \nTakes place on the 2nd floor of the Library in the Gallery Room. Program is free and no registration required. For more information email askus@nwpl.ca or call 604-527-4665.
URL:/calendars/workbc-employment-services-drop-in-at-nwpl/
CATEGORIES:Event
END:VEVENT
BEGIN:VEVENT
DTSTART;TZID=America/Vancouver:20220923T093000
DTEND;TZID=America/Vancouver:20220923T123000
DTSTAMP:20260420T153009
CREATED:20220829T213525Z
LAST-MODIFIED:20220829T213525Z
UID:2388-1663925400-1663936200@www.workbccentre-newwestminster.ca
SUMMARY:Career Exploration 3
DESCRIPTION:
URL:/calendars/career-exploration-3-2/
CATEGORIES:Event
END:VEVENT
BEGIN:VEVENT
DTSTART;TZID=America/Vancouver:20220927T093000
DTEND;TZID=America/Vancouver:20220927T123000
DTSTAMP:20260420T153009
CREATED:20220829T213757Z
LAST-MODIFIED:20220829T213757Z
UID:2391-1664271000-1664281800@www.workbccentre-newwestminster.ca
SUMMARY:Resumes
DESCRIPTION:
URL:/calendars/resumes-4/
CATEGORIES:Workshop
END:VEVENT
BEGIN:VEVENT
DTSTART;TZID=America/Vancouver:20220929T093000
DTEND;TZID=America/Vancouver:20220929T123000
DTSTAMP:20260420T153009
CREATED:20220829T213851Z
LAST-MODIFIED:20220829T213851Z
UID:2393-1664443800-1664454600@www.workbccentre-newwestminster.ca
SUMMARY:Cover Letters
DESCRIPTION:
URL:/calendars/cover-letters-2/
CATEGORIES:Workshop
END:VEVENT
END:VCALENDAR