BEGIN:VCALENDAR
VERSION:2.0
PRODID:-//WorkBC Centre - ECPv6.11.2//NONSGML v1.0//EN
CALSCALE:GREGORIAN
METHOD:PUBLISH
X-WR-CALNAME:WorkBC Centre
X-ORIGINAL-URL:https://www.workbccentre-newwestminster.ca
X-WR-CALDESC:Events for WorkBC Centre
REFRESH-INTERVAL;VALUE=DURATION:PT1H
X-Robots-Tag:noindex
X-PUBLISHED-TTL:PT1H
BEGIN:VTIMEZONE
TZID:America/Vancouver
BEGIN:DAYLIGHT
TZOFFSETFROM:-0800
TZOFFSETTO:-0700
TZNAME:PDT
DTSTART:20220313T100000
END:DAYLIGHT
BEGIN:STANDARD
TZOFFSETFROM:-0700
TZOFFSETTO:-0800
TZNAME:PST
DTSTART:20221106T090000
END:STANDARD
END:VTIMEZONE
BEGIN:VEVENT
DTSTART;VALUE=DATE:20221010
DTEND;VALUE=DATE:20221011
DTSTAMP:20260420T115409
CREATED:20221003T203015Z
LAST-MODIFIED:20221003T203040Z
UID:2422-1665360000-1665446399@www.workbccentre-newwestminster.ca
SUMMARY:Thanksgiving - Office closed
DESCRIPTION:
URL:/calendars/thanksgiving-office-closed/
CATEGORIES:Event
END:VEVENT
BEGIN:VEVENT
DTSTART;TZID=America/Vancouver:20221011T090000
DTEND;TZID=America/Vancouver:20221011T120000
DTSTAMP:20260420T115409
CREATED:20221003T203603Z
LAST-MODIFIED:20221003T203603Z
UID:2430-1665478800-1665489600@www.workbccentre-newwestminster.ca
SUMMARY:Homelessness Action Week - Outreach
DESCRIPTION:Holy Trinity Cathedral
URL:/calendars/homelessness-action-week-outreach/
CATEGORIES:Event
END:VEVENT
BEGIN:VEVENT
DTSTART;TZID=America/Vancouver:20221011T093000
DTEND;TZID=America/Vancouver:20221011T123000
DTSTAMP:20260420T115409
CREATED:20221003T203312Z
LAST-MODIFIED:20221003T203312Z
UID:2425-1665480600-1665491400@www.workbccentre-newwestminster.ca
SUMMARY:Resume Workshop
DESCRIPTION:
URL:/calendars/resume-workshop-27/
CATEGORIES:Workshop
END:VEVENT
BEGIN:VEVENT
DTSTART;TZID=America/Vancouver:20221013T093000
DTEND;TZID=America/Vancouver:20221013T123000
DTSTAMP:20260420T115409
CREATED:20221003T203345Z
LAST-MODIFIED:20221003T203345Z
UID:2428-1665653400-1665664200@www.workbccentre-newwestminster.ca
SUMMARY:Cover Letter
DESCRIPTION:
URL:/calendars/cover-letter-37/
CATEGORIES:Workshop
END:VEVENT
BEGIN:VEVENT
DTSTART;TZID=America/Vancouver:20221017T093000
DTEND;TZID=America/Vancouver:20221017T123000
DTSTAMP:20260420T115409
CREATED:20221003T204314Z
LAST-MODIFIED:20221003T204314Z
UID:2435-1665999000-1666009800@www.workbccentre-newwestminster.ca
SUMMARY:Career Ex. 1
DESCRIPTION:
URL:/calendars/career-ex-1-18/
CATEGORIES:Workshop
END:VEVENT
BEGIN:VEVENT
DTSTART;TZID=America/Vancouver:20221018T093000
DTEND;TZID=America/Vancouver:20221018T123000
DTSTAMP:20260420T115409
CREATED:20221003T204349Z
LAST-MODIFIED:20221003T204349Z
UID:2437-1666085400-1666096200@www.workbccentre-newwestminster.ca
SUMMARY:Career Ex. 2
DESCRIPTION:
URL:/calendars/career-ex-2-18/
CATEGORIES:Workshop
END:VEVENT
BEGIN:VEVENT
DTSTART;TZID=America/Vancouver:20221019T130000
DTEND;TZID=America/Vancouver:20221019T143000
DTSTAMP:20260420T115409
CREATED:20221003T204126Z
LAST-MODIFIED:20221003T204215Z
UID:2432-1666184400-1666189800@www.workbccentre-newwestminster.ca
SUMMARY:WorkBC Employment Services Drop-in at NWPL
DESCRIPTION:We’ll be at the New West Public Library to help you with your job search questions. Drop-in\, meet with our facilitator & have your questions answered! \nhttps://www.nwpl.ca/events-calendar/
URL:/calendars/workbc-employment-services-drop-in-at-nwpl-2/
CATEGORIES:Event
END:VEVENT
BEGIN:VEVENT
DTSTART;TZID=America/Vancouver:20221020T093000
DTEND;TZID=America/Vancouver:20221020T123000
DTSTAMP:20260420T115409
CREATED:20221003T204444Z
LAST-MODIFIED:20221003T204444Z
UID:2439-1666258200-1666269000@www.workbccentre-newwestminster.ca
SUMMARY:Career Ex. 3
DESCRIPTION:
URL:/calendars/career-ex-3-17/
CATEGORIES:Workshop
END:VEVENT
BEGIN:VEVENT
DTSTART;TZID=America/Vancouver:20221025T093000
DTEND;TZID=America/Vancouver:20221025T123000
DTSTAMP:20260420T115409
CREATED:20221003T205432Z
LAST-MODIFIED:20221003T205432Z
UID:2441-1666690200-1666701000@www.workbccentre-newwestminster.ca
SUMMARY:Resumes
DESCRIPTION:
URL:/calendars/resumes-5/
CATEGORIES:Event
END:VEVENT
BEGIN:VEVENT
DTSTART;TZID=America/Vancouver:20221027T093000
DTEND;TZID=America/Vancouver:20221027T123000
DTSTAMP:20260420T115409
CREATED:20221003T205510Z
LAST-MODIFIED:20221003T205510Z
UID:2443-1666863000-1666873800@www.workbccentre-newwestminster.ca
SUMMARY:Cover Letters
DESCRIPTION:
URL:/calendars/cover-letters-3/
CATEGORIES:Workshop
END:VEVENT
BEGIN:VEVENT
DTSTART;TZID=America/Vancouver:20221028T110000
DTEND;TZID=America/Vancouver:20221028T133000
DTSTAMP:20260420T115409
CREATED:20221019T155506Z
LAST-MODIFIED:20221020T184137Z
UID:2446-1666954800-1666963800@www.workbccentre-newwestminster.ca
SUMMARY:Interview Skills Workshop
DESCRIPTION:Learn interview techniques & how to prepare for an interview. Mock interview practice. \nRegister through your case manager.
URL:/calendars/interview-skills-workshop-6/
END:VEVENT
END:VCALENDAR