BEGIN:VCALENDAR
VERSION:2.0
PRODID:-//WorkBC Centre - ECPv6.11.2//NONSGML v1.0//EN
CALSCALE:GREGORIAN
METHOD:PUBLISH
X-WR-CALNAME:WorkBC Centre
X-ORIGINAL-URL:https://www.workbccentre-newwestminster.ca
X-WR-CALDESC:Events for WorkBC Centre
REFRESH-INTERVAL;VALUE=DURATION:PT1H
X-Robots-Tag:noindex
X-PUBLISHED-TTL:PT1H
BEGIN:VTIMEZONE
TZID:America/Vancouver
BEGIN:DAYLIGHT
TZOFFSETFROM:-0800
TZOFFSETTO:-0700
TZNAME:PDT
DTSTART:20230312T100000
END:DAYLIGHT
BEGIN:STANDARD
TZOFFSETFROM:-0700
TZOFFSETTO:-0800
TZNAME:PST
DTSTART:20231105T090000
END:STANDARD
END:VTIMEZONE
BEGIN:VEVENT
DTSTART;TZID=America/Vancouver:20230202T093000
DTEND;TZID=America/Vancouver:20230202T123000
DTSTAMP:20260420T045526
CREATED:20230130T213443Z
LAST-MODIFIED:20230130T213443Z
UID:2597-1675330200-1675341000@www.workbccentre-newwestminster.ca
SUMMARY:Cover Letter Workshop
DESCRIPTION:
URL:/calendars/cover-letter-workshop-25/
CATEGORIES:Workshop
END:VEVENT
BEGIN:VEVENT
DTSTART;TZID=America/Vancouver:20230207T130000
DTEND;TZID=America/Vancouver:20230207T140000
DTSTAMP:20260420T045526
CREATED:20230123T182227Z
LAST-MODIFIED:20230123T182227Z
UID:2592-1675774800-1675778400@www.workbccentre-newwestminster.ca
SUMMARY:In-Person Employer Session - The Universal Group
DESCRIPTION:In-Person Employer Session at WorkBC Centre New Westminster\n1:00 pm\, Tuesday\, Feb. 7\, 2023 \nJobs available:\nConstruction Safety Officer\nAccounts Receivable\nCollections Coordinator\nBilling Administrator\nCarpenters\nRebar Worker\nRecruitment & Dispatch\nCoordinator\nSkilled Labourers\nTraffic Safety Persons\nRegistration is required. https://workbcnewwest31.eventbrite.ca
URL:/calendars/in-person-employer-session-the-universal-group/
CATEGORIES:Event
END:VEVENT
BEGIN:VEVENT
DTSTART;TZID=America/Vancouver:20230207T160000
DTEND;TZID=America/Vancouver:20230207T180000
DTSTAMP:20260420T045526
CREATED:20230130T214137Z
LAST-MODIFIED:20230130T214137Z
UID:2611-1675785600-1675792800@www.workbccentre-newwestminster.ca
SUMMARY:QUEENSBOROUGH COMMUNITY CENTRE DROP-IN
DESCRIPTION:
URL:/calendars/queensborough-community-centre-drop-in-5/
CATEGORIES:Event
END:VEVENT
BEGIN:VEVENT
DTSTART;TZID=America/Vancouver:20230208T123000
DTEND;TZID=America/Vancouver:20230208T140000
DTSTAMP:20260420T045526
CREATED:20230130T214726Z
LAST-MODIFIED:20230130T214753Z
UID:2619-1675859400-1675864800@www.workbccentre-newwestminster.ca
SUMMARY:WELCOME CENTRE PRESENTATION - All Newcomers Welcome
DESCRIPTION:
URL:/calendars/welcome-centre-presentation-all-newcomers-welcome/
CATEGORIES:Event
END:VEVENT
BEGIN:VEVENT
DTSTART;TZID=America/Vancouver:20230213T093000
DTEND;TZID=America/Vancouver:20230213T123000
DTSTAMP:20260420T045526
CREATED:20230130T213523Z
LAST-MODIFIED:20230130T213523Z
UID:2599-1676280600-1676291400@www.workbccentre-newwestminster.ca
SUMMARY:Career Exploration 1
DESCRIPTION:
URL:/calendars/career-exploration-1-3/
CATEGORIES:Workshop
END:VEVENT
BEGIN:VEVENT
DTSTART;TZID=America/Vancouver:20230214T093000
DTEND;TZID=America/Vancouver:20230214T123000
DTSTAMP:20260420T045526
CREATED:20230130T213605Z
LAST-MODIFIED:20230130T213605Z
UID:2601-1676367000-1676377800@www.workbccentre-newwestminster.ca
SUMMARY:Career Exploration 2
DESCRIPTION:
URL:/calendars/career-exploration-2-5/
CATEGORIES:Workshop
END:VEVENT
BEGIN:VEVENT
DTSTART;TZID=America/Vancouver:20230215T130000
DTEND;TZID=America/Vancouver:20230215T143000
DTSTAMP:20260420T045526
CREATED:20230130T215106Z
LAST-MODIFIED:20230130T215343Z
UID:2622-1676466000-1676471400@www.workbccentre-newwestminster.ca
SUMMARY:WorkBC Employment Services Drop-in at NWPL
DESCRIPTION:Drop-in the third Wednesday of every month! \nWorkBC employment services will be on hand to help you with: \n\nresume questions\ninformation about the best job search engines\nassistance with interview strategies\nhelp with cover letters\nand more!\n\nThird Wednesday of every month from 1pm – 2:30pm.
URL:/calendars/workbc-employment-services-drop-in-at-nwpl-4/
CATEGORIES:Event
END:VEVENT
BEGIN:VEVENT
DTSTART;TZID=America/Vancouver:20230217T093000
DTEND;TZID=America/Vancouver:20230217T123000
DTSTAMP:20260420T045526
CREATED:20230130T213648Z
LAST-MODIFIED:20230130T213648Z
UID:2603-1676626200-1676637000@www.workbccentre-newwestminster.ca
SUMMARY:Career Exploration 3
DESCRIPTION:
URL:/calendars/career-exploration-3-4/
CATEGORIES:Workshop
END:VEVENT
BEGIN:VEVENT
DTSTART;VALUE=DATE:20230220
DTEND;VALUE=DATE:20230221
DTSTAMP:20260420T045526
CREATED:20230130T213731Z
LAST-MODIFIED:20230130T215507Z
UID:2605-1676851200-1676937599@www.workbccentre-newwestminster.ca
SUMMARY:FAMILY DAY - OFFICE CLOSED
DESCRIPTION:
URL:/calendars/family-day-office-closed/
CATEGORIES:Event
END:VEVENT
BEGIN:VEVENT
DTSTART;TZID=America/Vancouver:20230221T093000
DTEND;TZID=America/Vancouver:20230221T123000
DTSTAMP:20260420T045526
CREATED:20230130T213944Z
LAST-MODIFIED:20230130T213944Z
UID:2607-1676971800-1676982600@www.workbccentre-newwestminster.ca
SUMMARY:Resume Workshop
DESCRIPTION:
URL:/calendars/resume-workshop-33/
CATEGORIES:Workshop
END:VEVENT
BEGIN:VEVENT
DTSTART;TZID=America/Vancouver:20230221T160000
DTEND;TZID=America/Vancouver:20230221T180000
DTSTAMP:20260420T045526
CREATED:20230130T214258Z
LAST-MODIFIED:20230130T214258Z
UID:2615-1676995200-1677002400@www.workbccentre-newwestminster.ca
SUMMARY:QUEENSBOROUGH COMMUNITY CENTRE DROP-IN
DESCRIPTION:
URL:/calendars/queensborough-community-centre-drop-in-7/
CATEGORIES:Event
END:VEVENT
BEGIN:VEVENT
DTSTART;TZID=America/Vancouver:20230228T160000
DTEND;TZID=America/Vancouver:20230228T180000
DTSTAMP:20260420T045526
CREATED:20230130T214349Z
LAST-MODIFIED:20230130T214349Z
UID:2617-1677600000-1677607200@www.workbccentre-newwestminster.ca
SUMMARY:QUEENSBOROUGH COMMUNITY CENTRE DROP-IN
DESCRIPTION:
URL:/calendars/queensborough-community-centre-drop-in-8/
CATEGORIES:Event
END:VEVENT
END:VCALENDAR