BEGIN:VCALENDAR
VERSION:2.0
PRODID:-//WorkBC Centre - ECPv6.11.2//NONSGML v1.0//EN
CALSCALE:GREGORIAN
METHOD:PUBLISH
X-WR-CALNAME:WorkBC Centre
X-ORIGINAL-URL:https://www.workbccentre-newwestminster.ca
X-WR-CALDESC:Events for WorkBC Centre
REFRESH-INTERVAL;VALUE=DURATION:PT1H
X-Robots-Tag:noindex
X-PUBLISHED-TTL:PT1H
BEGIN:VTIMEZONE
TZID:America/Vancouver
BEGIN:DAYLIGHT
TZOFFSETFROM:-0800
TZOFFSETTO:-0700
TZNAME:PDT
DTSTART:20210314T100000
END:DAYLIGHT
BEGIN:STANDARD
TZOFFSETFROM:-0700
TZOFFSETTO:-0800
TZNAME:PST
DTSTART:20211107T090000
END:STANDARD
END:VTIMEZONE
BEGIN:VEVENT
DTSTART;TZID=America/Vancouver:20210812T130000
DTEND;TZID=America/Vancouver:20210812T140000
DTSTAMP:20260419T115757
CREATED:20210719T184902Z
LAST-MODIFIED:20210719T184902Z
UID:1848-1628773200-1628776800@www.workbccentre-newwestminster.ca
SUMMARY:PURDYS Virtual Information Session/Hiring Event
DESCRIPTION:Purdys Chocolatier has been voted by their employees as one of the Canada’s Best Employers. Are you ready to join a company that values it’s people? Do you have a keen eye for detail\, great communication skills\, and a desire to work in a positive team environment? Purdys Chocolatier is looking to fill a variety of full-time roles. Register on Eventbrite https://workbcnewwest10.eventbrite.ca
URL:/calendars/purdys-virtual-information-session-hiring-event/
CATEGORIES:Event
END:VEVENT
END:VCALENDAR