BEGIN:VCALENDAR
VERSION:2.0
PRODID:-//WorkBC Centre - ECPv6.11.2//NONSGML v1.0//EN
CALSCALE:GREGORIAN
METHOD:PUBLISH
X-WR-CALNAME:WorkBC Centre
X-ORIGINAL-URL:https://www.workbccentre-newwestminster.ca
X-WR-CALDESC:Events for WorkBC Centre
REFRESH-INTERVAL;VALUE=DURATION:PT1H
X-Robots-Tag:noindex
X-PUBLISHED-TTL:PT1H
BEGIN:VTIMEZONE
TZID:America/Vancouver
BEGIN:DAYLIGHT
TZOFFSETFROM:-0800
TZOFFSETTO:-0700
TZNAME:PDT
DTSTART:20210314T100000
END:DAYLIGHT
BEGIN:STANDARD
TZOFFSETFROM:-0700
TZOFFSETTO:-0800
TZNAME:PST
DTSTART:20211107T090000
END:STANDARD
END:VTIMEZONE
BEGIN:VEVENT
DTSTART;TZID=America/Vancouver:20210609T130000
DTEND;TZID=America/Vancouver:20210609T143000
DTSTAMP:20260419T152307
CREATED:20210531T230455Z
LAST-MODIFIED:20210601T182644Z
UID:1775-1623243600-1623249000@www.workbccentre-newwestminster.ca
SUMMARY:Job Search During COVID: Post-COVID Resumes offered in partnership with the New West Public Library
DESCRIPTION:Wednesday June 9th 1-2:30pm Post-COVID Resumes \nIn this workshop you will be introduced to JobHero.com and explore a variety of resume styles and appropriate formats. You will also learn about the importance of tailoring resumes when responding to different job postings. \nRegistration and Questions \nTo register\, or for more information\, call 604-527-4665 or email askus@nwpl.ca
URL:/calendars/resumes/
CATEGORIES:Workshop
END:VEVENT
END:VCALENDAR