BEGIN:VCALENDAR
VERSION:2.0
PRODID:-//WorkBC Centre - ECPv6.11.2//NONSGML v1.0//EN
CALSCALE:GREGORIAN
METHOD:PUBLISH
X-WR-CALNAME:WorkBC Centre
X-ORIGINAL-URL:https://www.workbccentre-newwestminster.ca
X-WR-CALDESC:Events for WorkBC Centre
REFRESH-INTERVAL;VALUE=DURATION:PT1H
X-Robots-Tag:noindex
X-PUBLISHED-TTL:PT1H
BEGIN:VTIMEZONE
TZID:America/Vancouver
BEGIN:DAYLIGHT
TZOFFSETFROM:-0800
TZOFFSETTO:-0700
TZNAME:PDT
DTSTART:20200308T100000
END:DAYLIGHT
BEGIN:STANDARD
TZOFFSETFROM:-0700
TZOFFSETTO:-0800
TZNAME:PST
DTSTART:20201101T090000
END:STANDARD
END:VTIMEZONE
BEGIN:VEVENT
DTSTART;TZID=America/Vancouver:20200922T130000
DTEND;TZID=America/Vancouver:20200922T140000
DTSTAMP:20260419T171803
CREATED:20200904T213843Z
LAST-MODIFIED:20200904T213843Z
UID:1455-1600779600-1600783200@www.workbccentre-newwestminster.ca
SUMMARY:VIRTUAL Employer Speaker Series - RAYMOND JAMES
DESCRIPTION:Have your resume available to apply for positions. Registration is required. Register through your Job Search Specialist. \nLink will be emailed to registered participants before the session.
URL:/calendars/virtual-employer-speaker-series-raymond-james/
CATEGORIES:Event
END:VEVENT
END:VCALENDAR