BEGIN:VCALENDAR
VERSION:2.0
PRODID:-//WorkBC Centre - ECPv6.11.2//NONSGML v1.0//EN
CALSCALE:GREGORIAN
METHOD:PUBLISH
X-WR-CALNAME:WorkBC Centre
X-ORIGINAL-URL:https://www.workbccentre-newwestminster.ca
X-WR-CALDESC:Events for WorkBC Centre
REFRESH-INTERVAL;VALUE=DURATION:PT1H
X-Robots-Tag:noindex
X-PUBLISHED-TTL:PT1H
BEGIN:VTIMEZONE
TZID:America/Vancouver
BEGIN:DAYLIGHT
TZOFFSETFROM:-0800
TZOFFSETTO:-0700
TZNAME:PDT
DTSTART:20210314T100000
END:DAYLIGHT
BEGIN:STANDARD
TZOFFSETFROM:-0700
TZOFFSETTO:-0800
TZNAME:PST
DTSTART:20211107T090000
END:STANDARD
END:VTIMEZONE
BEGIN:VEVENT
DTSTART;TZID=America/Vancouver:20210720T100000
DTEND;TZID=America/Vancouver:20210720T103000
DTSTAMP:20260419T133619
CREATED:20210713T173135Z
LAST-MODIFIED:20210713T173135Z
UID:1838-1626775200-1626777000@www.workbccentre-newwestminster.ca
SUMMARY:Virtual Information Session WorkBC Services
DESCRIPTION:If you are wondering how WorkBC can support your employment planning\, we invite you to join our upcoming virtual information session on job search services.  The session will take place on July 20\, 2021 at 10:00am. Register to attend. https://workbcnewwest.eventbrite.ca
URL:/calendars/virtual-information-session-workbc-services/
CATEGORIES:Event
END:VEVENT
END:VCALENDAR