BEGIN:VCALENDAR
VERSION:2.0
PRODID:-//WorkBC Centre - ECPv6.11.2//NONSGML v1.0//EN
CALSCALE:GREGORIAN
METHOD:PUBLISH
X-WR-CALNAME:WorkBC Centre
X-ORIGINAL-URL:https://www.workbccentre-newwestminster.ca
X-WR-CALDESC:Events for WorkBC Centre
REFRESH-INTERVAL;VALUE=DURATION:PT1H
X-Robots-Tag:noindex
X-PUBLISHED-TTL:PT1H
BEGIN:VTIMEZONE
TZID:America/Vancouver
BEGIN:DAYLIGHT
TZOFFSETFROM:-0800
TZOFFSETTO:-0700
TZNAME:PDT
DTSTART:20220313T100000
END:DAYLIGHT
BEGIN:STANDARD
TZOFFSETFROM:-0700
TZOFFSETTO:-0800
TZNAME:PST
DTSTART:20221106T090000
END:STANDARD
END:VTIMEZONE
BEGIN:VEVENT
DTSTART;TZID=America/Vancouver:20220421T140000
DTEND;TZID=America/Vancouver:20220421T153000
DTSTAMP:20260419T153945
CREATED:20220407T181858Z
LAST-MODIFIED:20220407T181858Z
UID:2227-1650549600-1650555000@www.workbccentre-newwestminster.ca
SUMMARY:Virtual Interviews\, MS Teams & Zoom
DESCRIPTION:
URL:/calendars/virtual-interviews-ms-teams-zoom/
CATEGORIES:Workshop
END:VEVENT
END:VCALENDAR