BEGIN:VCALENDAR
VERSION:2.0
PRODID:-//WorkBC Centre - ECPv6.11.2//NONSGML v1.0//EN
CALSCALE:GREGORIAN
METHOD:PUBLISH
X-WR-CALNAME:WorkBC Centre
X-ORIGINAL-URL:https://www.workbccentre-newwestminster.ca
X-WR-CALDESC:Events for WorkBC Centre
REFRESH-INTERVAL;VALUE=DURATION:PT1H
X-Robots-Tag:noindex
X-PUBLISHED-TTL:PT1H
BEGIN:VTIMEZONE
TZID:America/Vancouver
BEGIN:DAYLIGHT
TZOFFSETFROM:-0800
TZOFFSETTO:-0700
TZNAME:PDT
DTSTART:20210314T100000
END:DAYLIGHT
BEGIN:STANDARD
TZOFFSETFROM:-0700
TZOFFSETTO:-0800
TZNAME:PST
DTSTART:20211107T090000
END:STANDARD
END:VTIMEZONE
BEGIN:VEVENT
DTSTART;TZID=America/Vancouver:20210623T130000
DTEND;TZID=America/Vancouver:20210623T143000
DTSTAMP:20260419T134328
CREATED:20210428T221509Z
LAST-MODIFIED:20210601T183327Z
UID:1731-1624453200-1624458600@www.workbccentre-newwestminster.ca
SUMMARY:Job Search During COVID: Virtual Job Search Etiquette in Partnership with the New West Public Library
DESCRIPTION:Learn how to manage your social media presence to avoid inappropriate material that may affect your ability to get a job. You will also learn about how to prepare yourself and your space for a virtual interview. Participants will be introduced to Microsoft Teams and Zoom\, both of which are commonly used for virtual interviews and meetings. \nPresented with the New Westminster Public Library  \nRegistration and Questions \nTo register\, or for more information\, call 604-527-4665 or email askus@nwpl.ca
URL:/calendars/virtual-job-search-etiquette/
CATEGORIES:Event
END:VEVENT
END:VCALENDAR