BEGIN:VCALENDAR
VERSION:2.0
PRODID:-//WorkBC Centre - ECPv6.11.2//NONSGML v1.0//EN
CALSCALE:GREGORIAN
METHOD:PUBLISH
X-WR-CALNAME:WorkBC Centre
X-ORIGINAL-URL:https://www.workbccentre-newwestminster.ca
X-WR-CALDESC:Events for WorkBC Centre
REFRESH-INTERVAL;VALUE=DURATION:PT1H
X-Robots-Tag:noindex
X-PUBLISHED-TTL:PT1H
BEGIN:VTIMEZONE
TZID:America/Vancouver
BEGIN:DAYLIGHT
TZOFFSETFROM:-0800
TZOFFSETTO:-0700
TZNAME:PDT
DTSTART:20200308T100000
END:DAYLIGHT
BEGIN:STANDARD
TZOFFSETFROM:-0700
TZOFFSETTO:-0800
TZNAME:PST
DTSTART:20201101T090000
END:STANDARD
END:VTIMEZONE
BEGIN:VEVENT
DTSTART;TZID=America/Vancouver:20200831T083000
DTEND;TZID=America/Vancouver:20200831T163000
DTSTAMP:20260419T205302
CREATED:20200814T211415Z
LAST-MODIFIED:20200814T211415Z
UID:1421-1598862600-1598891400@www.workbccentre-newwestminster.ca
SUMMARY:VIRTUAL ONE-ON-ONE RESUME & COVER LETTER SUPPORT. CONTACT YOUR JOB SEARCH SPECIALIST TO BOOK AN APPOINTMENT.
DESCRIPTION:
URL:/calendars/virtual-one-on-one-resume-cover-letter-support-contact-your-job-search-specialist-to-book-an-appointment-5/
END:VEVENT
END:VCALENDAR