BEGIN:VCALENDAR
VERSION:2.0
PRODID:-//WorkBC Centre - ECPv6.11.2//NONSGML v1.0//EN
CALSCALE:GREGORIAN
METHOD:PUBLISH
X-WR-CALNAME:WorkBC Centre
X-ORIGINAL-URL:https://www.workbccentre-newwestminster.ca
X-WR-CALDESC:Events for WorkBC Centre
REFRESH-INTERVAL;VALUE=DURATION:PT1H
X-Robots-Tag:noindex
X-PUBLISHED-TTL:PT1H
BEGIN:VTIMEZONE
TZID:America/Vancouver
BEGIN:DAYLIGHT
TZOFFSETFROM:-0800
TZOFFSETTO:-0700
TZNAME:PDT
DTSTART:20220313T100000
END:DAYLIGHT
BEGIN:STANDARD
TZOFFSETFROM:-0700
TZOFFSETTO:-0800
TZNAME:PST
DTSTART:20221106T090000
END:STANDARD
END:VTIMEZONE
BEGIN:VEVENT
DTSTART;TZID=America/Vancouver:20220623T150000
DTEND;TZID=America/Vancouver:20220623T190000
DTSTAMP:20260419T064842
CREATED:20220530T164351Z
LAST-MODIFIED:20220530T164431Z
UID:2304-1655996400-1656010800@www.workbccentre-newwestminster.ca
SUMMARY:WorkBC Centre New West In-Person @New West Farmer's Market
DESCRIPTION:Come & visit us on June 23. We’ll be at the Farmer’s Market in Tipperary Park to answer questions about our services. \nhttps://newwestfarmers.ca/
URL:/calendars/workbc-centre-new-west-in-person-new-west-farmers-market/
CATEGORIES:Event
END:VEVENT
END:VCALENDAR