BEGIN:VCALENDAR
VERSION:2.0
PRODID:-//WorkBC Centre - ECPv6.11.2//NONSGML v1.0//EN
CALSCALE:GREGORIAN
METHOD:PUBLISH
X-WR-CALNAME:WorkBC Centre
X-ORIGINAL-URL:https://www.workbccentre-newwestminster.ca
X-WR-CALDESC:Events for WorkBC Centre
REFRESH-INTERVAL;VALUE=DURATION:PT1H
X-Robots-Tag:noindex
X-PUBLISHED-TTL:PT1H
BEGIN:VTIMEZONE
TZID:America/Vancouver
BEGIN:DAYLIGHT
TZOFFSETFROM:-0800
TZOFFSETTO:-0700
TZNAME:PDT
DTSTART:20190310T100000
END:DAYLIGHT
BEGIN:STANDARD
TZOFFSETFROM:-0700
TZOFFSETTO:-0800
TZNAME:PST
DTSTART:20191103T090000
END:STANDARD
END:VTIMEZONE
BEGIN:VEVENT
DTSTART;TZID=America/Vancouver:20191104T130000
DTEND;TZID=America/Vancouver:20191104T150000
DTSTAMP:20260419T223929
CREATED:20191025T225201Z
LAST-MODIFIED:20191025T225201Z
UID:1113-1572872400-1572879600@www.workbccentre-newwestminster.ca
SUMMARY:WORKBC @ New Westminster Main Branch
DESCRIPTION:Drop in.  No registration required.  Drop by the New Westminster library to meet with an employment facilitator.
URL:/calendars/workbc-new-westminster-main-branch/
CATEGORIES:Event
END:VEVENT
END:VCALENDAR