BEGIN:VCALENDAR
VERSION:2.0
PRODID:-//WorkBC Centre - ECPv6.11.2//NONSGML v1.0//EN
CALSCALE:GREGORIAN
METHOD:PUBLISH
X-WR-CALNAME:WorkBC Centre
X-ORIGINAL-URL:https://www.workbccentre-newwestminster.ca
X-WR-CALDESC:Events for WorkBC Centre
REFRESH-INTERVAL;VALUE=DURATION:PT1H
X-Robots-Tag:noindex
X-PUBLISHED-TTL:PT1H
BEGIN:VTIMEZONE
TZID:America/Vancouver
BEGIN:DAYLIGHT
TZOFFSETFROM:-0800
TZOFFSETTO:-0700
TZNAME:PDT
DTSTART:20220313T100000
END:DAYLIGHT
BEGIN:STANDARD
TZOFFSETFROM:-0700
TZOFFSETTO:-0800
TZNAME:PST
DTSTART:20221106T090000
END:STANDARD
END:VTIMEZONE
BEGIN:VEVENT
DTSTART;TZID=America/Vancouver:20220217T100000
DTEND;TZID=America/Vancouver:20220217T103000
DTSTAMP:20260419T120025
CREATED:20220202T211721Z
LAST-MODIFIED:20220202T211842Z
UID:2124-1645092000-1645093800@www.workbccentre-newwestminster.ca
SUMMARY:Working with You on Your Job Search - WorkBC Employment Services
DESCRIPTION:Learn about WorkBC & how we can support you in getting to that new job! Career exploration\, short-term training & job supports – learn what this means & who’s eligible. There is no cost to attend this virtual info session\, so join us for 30 minutes that could be the change you are looking for. \nRegister by calling 604-522-9701 or email social@fraserworks.ca
URL:/calendars/working-with-you-on-your-job-search-workbc-employment-services/
END:VEVENT
END:VCALENDAR